BEGIN:VCALENDAR
VERSION:2.0
PRODID:-//South Gardiner Baptist Church - ECPv6.15.20//NONSGML v1.0//EN
CALSCALE:GREGORIAN
METHOD:PUBLISH
X-WR-CALNAME:South Gardiner Baptist Church
X-ORIGINAL-URL:https://sgbchurch.com
X-WR-CALDESC:Events for South Gardiner Baptist Church
REFRESH-INTERVAL;VALUE=DURATION:PT1H
X-Robots-Tag:noindex
X-PUBLISHED-TTL:PT1H
BEGIN:VTIMEZONE
TZID:America/New_York
BEGIN:DAYLIGHT
TZOFFSETFROM:-0500
TZOFFSETTO:-0400
TZNAME:EDT
DTSTART:20220313T070000
END:DAYLIGHT
BEGIN:STANDARD
TZOFFSETFROM:-0400
TZOFFSETTO:-0500
TZNAME:EST
DTSTART:20221106T060000
END:STANDARD
BEGIN:DAYLIGHT
TZOFFSETFROM:-0500
TZOFFSETTO:-0400
TZNAME:EDT
DTSTART:20230312T070000
END:DAYLIGHT
BEGIN:STANDARD
TZOFFSETFROM:-0400
TZOFFSETTO:-0500
TZNAME:EST
DTSTART:20231105T060000
END:STANDARD
BEGIN:DAYLIGHT
TZOFFSETFROM:-0500
TZOFFSETTO:-0400
TZNAME:EDT
DTSTART:20240310T070000
END:DAYLIGHT
BEGIN:STANDARD
TZOFFSETFROM:-0400
TZOFFSETTO:-0500
TZNAME:EST
DTSTART:20241103T060000
END:STANDARD
BEGIN:DAYLIGHT
TZOFFSETFROM:-0500
TZOFFSETTO:-0400
TZNAME:EDT
DTSTART:20250309T070000
END:DAYLIGHT
BEGIN:STANDARD
TZOFFSETFROM:-0400
TZOFFSETTO:-0500
TZNAME:EST
DTSTART:20251102T060000
END:STANDARD
END:VTIMEZONE
BEGIN:VEVENT
DTSTART;TZID=America/New_York:20240114T104500
DTEND;TZID=America/New_York:20240114T120000
DTSTAMP:20260423T022634
CREATED:20221012T140205Z
LAST-MODIFIED:20260322T003932Z
UID:10000074-1705229100-1705233600@sgbchurch.com
SUMMARY:Sunday Morning Service
DESCRIPTION:Prayer\nSinging\nFellowship\nPreaching\nAll to the Glory of God
URL:https://sgbchurch.com/event/sunday-morning-service-2/2024-01-14/
LOCATION:South Gardiner Baptist Church
CATEGORIES:Regular Services
END:VEVENT
BEGIN:VEVENT
DTSTART;TZID=America/New_York:20240110T183000
DTEND;TZID=America/New_York:20240110T193000
DTSTAMP:20260423T022634
CREATED:20221012T141215Z
LAST-MODIFIED:20251106T163231Z
UID:10001127-1704911400-1704915000@sgbchurch.com
SUMMARY:Prayer Meeting
DESCRIPTION:
URL:https://sgbchurch.com/event/prayer-meeting-2/2024-01-10/
LOCATION:South Gardiner Baptist Church
CATEGORIES:Regular Services
END:VEVENT
BEGIN:VEVENT
DTSTART;TZID=America/New_York:20240107T104500
DTEND;TZID=America/New_York:20240107T120000
DTSTAMP:20260423T022634
CREATED:20221012T140205Z
LAST-MODIFIED:20260322T003932Z
UID:10000073-1704624300-1704628800@sgbchurch.com
SUMMARY:Sunday Morning Service
DESCRIPTION:Prayer\nSinging\nFellowship\nPreaching\nAll to the Glory of God
URL:https://sgbchurch.com/event/sunday-morning-service-2/2024-01-07/
LOCATION:South Gardiner Baptist Church
CATEGORIES:Regular Services
END:VEVENT
BEGIN:VEVENT
DTSTART;TZID=America/New_York:20240103T183000
DTEND;TZID=America/New_York:20240103T193000
DTSTAMP:20260423T022634
CREATED:20221012T141215Z
LAST-MODIFIED:20251106T163231Z
UID:10001126-1704306600-1704310200@sgbchurch.com
SUMMARY:Prayer Meeting
DESCRIPTION:
URL:https://sgbchurch.com/event/prayer-meeting-2/2024-01-03/
LOCATION:South Gardiner Baptist Church
CATEGORIES:Regular Services
END:VEVENT
BEGIN:VEVENT
DTSTART;TZID=America/New_York:20231231T104500
DTEND;TZID=America/New_York:20231231T120000
DTSTAMP:20260423T022634
CREATED:20221012T140205Z
LAST-MODIFIED:20260322T003932Z
UID:10000072-1704019500-1704024000@sgbchurch.com
SUMMARY:Sunday Morning Service
DESCRIPTION:Prayer\nSinging\nFellowship\nPreaching\nAll to the Glory of God
URL:https://sgbchurch.com/event/sunday-morning-service-2/2023-12-31/
LOCATION:South Gardiner Baptist Church
CATEGORIES:Regular Services
END:VEVENT
BEGIN:VEVENT
DTSTART;TZID=America/New_York:20231227T183000
DTEND;TZID=America/New_York:20231227T193000
DTSTAMP:20260423T022634
CREATED:20221012T141215Z
LAST-MODIFIED:20251106T163231Z
UID:10001362-1703701800-1703705400@sgbchurch.com
SUMMARY:Prayer Meeting
DESCRIPTION:
URL:https://sgbchurch.com/event/prayer-meeting-2/2023-12-27/
LOCATION:South Gardiner Baptist Church
CATEGORIES:Regular Services
END:VEVENT
BEGIN:VEVENT
DTSTART;TZID=America/New_York:20231224T180000
DTEND;TZID=America/New_York:20231224T190000
DTSTAMP:20260423T022634
CREATED:20231214T131925Z
LAST-MODIFIED:20251209T120331Z
UID:10001358-1703440800-1703444400@sgbchurch.com
SUMMARY:Christmas Eve Candlelight Service
DESCRIPTION:Join us as we meditate on the birth of Christ and the prophecies that predicted His birth\, and celebrate the light that He has brought and the salvation He offers. We will worship together singing Christmas Carols\, praying\, and looking into God’s Word.
URL:https://sgbchurch.com/event/christmas-eve-candlelight-service/2023-12-24/
LOCATION:South Gardiner Baptist Church
CATEGORIES:Special Services
ATTACH;FMTTYPE=image/jpeg:https://sgbchurch.com/wp-content/uploads/2025/12/pexels-erenlerhakan-289756-scaled-e1765281180414.jpg
END:VEVENT
BEGIN:VEVENT
DTSTART;TZID=America/New_York:20231224T104500
DTEND;TZID=America/New_York:20231224T120000
DTSTAMP:20260423T022634
CREATED:20221012T140205Z
LAST-MODIFIED:20260322T003932Z
UID:10000071-1703414700-1703419200@sgbchurch.com
SUMMARY:Sunday Morning Service
DESCRIPTION:Prayer\nSinging\nFellowship\nPreaching\nAll to the Glory of God
URL:https://sgbchurch.com/event/sunday-morning-service-2/2023-12-24/
LOCATION:South Gardiner Baptist Church
CATEGORIES:Regular Services
END:VEVENT
BEGIN:VEVENT
DTSTART;TZID=America/New_York:20231217T104500
DTEND;TZID=America/New_York:20231217T120000
DTSTAMP:20260423T022634
CREATED:20221012T140205Z
LAST-MODIFIED:20260322T003932Z
UID:10000070-1702809900-1702814400@sgbchurch.com
SUMMARY:Sunday Morning Service
DESCRIPTION:Prayer\nSinging\nFellowship\nPreaching\nAll to the Glory of God
URL:https://sgbchurch.com/event/sunday-morning-service-2/2023-12-17/
LOCATION:South Gardiner Baptist Church
CATEGORIES:Regular Services
END:VEVENT
BEGIN:VEVENT
DTSTART;TZID=America/New_York:20231213T183000
DTEND;TZID=America/New_York:20231213T193000
DTSTAMP:20260423T022634
CREATED:20221012T141215Z
LAST-MODIFIED:20251106T163231Z
UID:10001123-1702492200-1702495800@sgbchurch.com
SUMMARY:Prayer Meeting
DESCRIPTION:
URL:https://sgbchurch.com/event/prayer-meeting-2/2023-12-13/
LOCATION:South Gardiner Baptist Church
CATEGORIES:Regular Services
END:VEVENT
BEGIN:VEVENT
DTSTART;TZID=America/New_York:20231210T104500
DTEND;TZID=America/New_York:20231210T120000
DTSTAMP:20260423T022634
CREATED:20221012T140205Z
LAST-MODIFIED:20260322T003932Z
UID:10000069-1702205100-1702209600@sgbchurch.com
SUMMARY:Sunday Morning Service
DESCRIPTION:Prayer\nSinging\nFellowship\nPreaching\nAll to the Glory of God
URL:https://sgbchurch.com/event/sunday-morning-service-2/2023-12-10/
LOCATION:South Gardiner Baptist Church
CATEGORIES:Regular Services
END:VEVENT
BEGIN:VEVENT
DTSTART;TZID=America/New_York:20231206T183000
DTEND;TZID=America/New_York:20231206T193000
DTSTAMP:20260423T022634
CREATED:20221012T141215Z
LAST-MODIFIED:20251106T163231Z
UID:10001122-1701887400-1701891000@sgbchurch.com
SUMMARY:Prayer Meeting
DESCRIPTION:
URL:https://sgbchurch.com/event/prayer-meeting-2/2023-12-06/
LOCATION:South Gardiner Baptist Church
CATEGORIES:Regular Services
END:VEVENT
BEGIN:VEVENT
DTSTART;TZID=America/New_York:20231203T104500
DTEND;TZID=America/New_York:20231203T120000
DTSTAMP:20260423T022634
CREATED:20221012T140205Z
LAST-MODIFIED:20260322T003932Z
UID:10000068-1701600300-1701604800@sgbchurch.com
SUMMARY:Sunday Morning Service
DESCRIPTION:Prayer\nSinging\nFellowship\nPreaching\nAll to the Glory of God
URL:https://sgbchurch.com/event/sunday-morning-service-2/2023-12-03/
LOCATION:South Gardiner Baptist Church
CATEGORIES:Regular Services
END:VEVENT
BEGIN:VEVENT
DTSTART;TZID=America/New_York:20231129T183000
DTEND;TZID=America/New_York:20231129T193000
DTSTAMP:20260423T022634
CREATED:20221012T141215Z
LAST-MODIFIED:20251106T163231Z
UID:10001121-1701282600-1701286200@sgbchurch.com
SUMMARY:Prayer Meeting
DESCRIPTION:
URL:https://sgbchurch.com/event/prayer-meeting-2/2023-11-29/
LOCATION:South Gardiner Baptist Church
CATEGORIES:Regular Services
END:VEVENT
BEGIN:VEVENT
DTSTART;TZID=America/New_York:20231126T104500
DTEND;TZID=America/New_York:20231126T120000
DTSTAMP:20260423T022634
CREATED:20221012T140205Z
LAST-MODIFIED:20260322T003932Z
UID:10000067-1700995500-1701000000@sgbchurch.com
SUMMARY:Sunday Morning Service
DESCRIPTION:Prayer\nSinging\nFellowship\nPreaching\nAll to the Glory of God
URL:https://sgbchurch.com/event/sunday-morning-service-2/2023-11-26/
LOCATION:South Gardiner Baptist Church
CATEGORIES:Regular Services
END:VEVENT
BEGIN:VEVENT
DTSTART;TZID=America/New_York:20231122T183000
DTEND;TZID=America/New_York:20231122T193000
DTSTAMP:20260423T022634
CREATED:20221012T141215Z
LAST-MODIFIED:20251106T163231Z
UID:10001120-1700677800-1700681400@sgbchurch.com
SUMMARY:Prayer Meeting
DESCRIPTION:
URL:https://sgbchurch.com/event/prayer-meeting-2/2023-11-22/
LOCATION:South Gardiner Baptist Church
CATEGORIES:Regular Services
END:VEVENT
BEGIN:VEVENT
DTSTART;TZID=America/New_York:20231119T104500
DTEND;TZID=America/New_York:20231119T120000
DTSTAMP:20260423T022634
CREATED:20221012T140205Z
LAST-MODIFIED:20260322T003932Z
UID:10000066-1700390700-1700395200@sgbchurch.com
SUMMARY:Sunday Morning Service
DESCRIPTION:Prayer\nSinging\nFellowship\nPreaching\nAll to the Glory of God
URL:https://sgbchurch.com/event/sunday-morning-service-2/2023-11-19/
LOCATION:South Gardiner Baptist Church
CATEGORIES:Regular Services
END:VEVENT
BEGIN:VEVENT
DTSTART;TZID=America/New_York:20231115T183000
DTEND;TZID=America/New_York:20231115T193000
DTSTAMP:20260423T022634
CREATED:20221012T141215Z
LAST-MODIFIED:20251106T163231Z
UID:10001119-1700073000-1700076600@sgbchurch.com
SUMMARY:Prayer Meeting
DESCRIPTION:
URL:https://sgbchurch.com/event/prayer-meeting-2/2023-11-15/
LOCATION:South Gardiner Baptist Church
CATEGORIES:Regular Services
END:VEVENT
BEGIN:VEVENT
DTSTART;TZID=America/New_York:20231112T104500
DTEND;TZID=America/New_York:20231112T120000
DTSTAMP:20260423T022634
CREATED:20221012T140205Z
LAST-MODIFIED:20260322T003932Z
UID:10000065-1699785900-1699790400@sgbchurch.com
SUMMARY:Sunday Morning Service
DESCRIPTION:Prayer\nSinging\nFellowship\nPreaching\nAll to the Glory of God
URL:https://sgbchurch.com/event/sunday-morning-service-2/2023-11-12/
LOCATION:South Gardiner Baptist Church
CATEGORIES:Regular Services
END:VEVENT
BEGIN:VEVENT
DTSTART;TZID=America/New_York:20231108T183000
DTEND;TZID=America/New_York:20231108T193000
DTSTAMP:20260423T022634
CREATED:20221012T141215Z
LAST-MODIFIED:20251106T163231Z
UID:10001118-1699468200-1699471800@sgbchurch.com
SUMMARY:Prayer Meeting
DESCRIPTION:
URL:https://sgbchurch.com/event/prayer-meeting-2/2023-11-08/
LOCATION:South Gardiner Baptist Church
CATEGORIES:Regular Services
END:VEVENT
BEGIN:VEVENT
DTSTART;TZID=America/New_York:20231105T104500
DTEND;TZID=America/New_York:20231105T120000
DTSTAMP:20260423T022634
CREATED:20221012T140205Z
LAST-MODIFIED:20260322T003932Z
UID:10000064-1699181100-1699185600@sgbchurch.com
SUMMARY:Sunday Morning Service
DESCRIPTION:Prayer\nSinging\nFellowship\nPreaching\nAll to the Glory of God
URL:https://sgbchurch.com/event/sunday-morning-service-2/2023-11-05/
LOCATION:South Gardiner Baptist Church
CATEGORIES:Regular Services
END:VEVENT
BEGIN:VEVENT
DTSTART;TZID=America/New_York:20231101T183000
DTEND;TZID=America/New_York:20231101T193000
DTSTAMP:20260423T022634
CREATED:20221012T141215Z
LAST-MODIFIED:20251106T163231Z
UID:10001117-1698863400-1698867000@sgbchurch.com
SUMMARY:Prayer Meeting
DESCRIPTION:
URL:https://sgbchurch.com/event/prayer-meeting-2/2023-11-01/
LOCATION:South Gardiner Baptist Church
CATEGORIES:Regular Services
END:VEVENT
BEGIN:VEVENT
DTSTART;TZID=America/New_York:20231029T104500
DTEND;TZID=America/New_York:20231029T120000
DTSTAMP:20260423T022634
CREATED:20221012T140205Z
LAST-MODIFIED:20260322T003932Z
UID:10000063-1698576300-1698580800@sgbchurch.com
SUMMARY:Sunday Morning Service
DESCRIPTION:Prayer\nSinging\nFellowship\nPreaching\nAll to the Glory of God
URL:https://sgbchurch.com/event/sunday-morning-service-2/2023-10-29/
LOCATION:South Gardiner Baptist Church
CATEGORIES:Regular Services
END:VEVENT
BEGIN:VEVENT
DTSTART;TZID=America/New_York:20231025T183000
DTEND;TZID=America/New_York:20231025T193000
DTSTAMP:20260423T022634
CREATED:20221012T141215Z
LAST-MODIFIED:20251106T163231Z
UID:10001116-1698258600-1698262200@sgbchurch.com
SUMMARY:Prayer Meeting
DESCRIPTION:
URL:https://sgbchurch.com/event/prayer-meeting-2/2023-10-25/
LOCATION:South Gardiner Baptist Church
CATEGORIES:Regular Services
END:VEVENT
BEGIN:VEVENT
DTSTART;TZID=America/New_York:20231022T104500
DTEND;TZID=America/New_York:20231022T120000
DTSTAMP:20260423T022634
CREATED:20221012T140205Z
LAST-MODIFIED:20260322T003932Z
UID:10000062-1697971500-1697976000@sgbchurch.com
SUMMARY:Sunday Morning Service
DESCRIPTION:Prayer\nSinging\nFellowship\nPreaching\nAll to the Glory of God
URL:https://sgbchurch.com/event/sunday-morning-service-2/2023-10-22/
LOCATION:South Gardiner Baptist Church
CATEGORIES:Regular Services
END:VEVENT
BEGIN:VEVENT
DTSTART;TZID=America/New_York:20231018T183000
DTEND;TZID=America/New_York:20231018T193000
DTSTAMP:20260423T022634
CREATED:20221012T141215Z
LAST-MODIFIED:20251106T163231Z
UID:10001115-1697653800-1697657400@sgbchurch.com
SUMMARY:Prayer Meeting
DESCRIPTION:
URL:https://sgbchurch.com/event/prayer-meeting-2/2023-10-18/
LOCATION:South Gardiner Baptist Church
CATEGORIES:Regular Services
END:VEVENT
BEGIN:VEVENT
DTSTART;TZID=America/New_York:20231015T104500
DTEND;TZID=America/New_York:20231015T120000
DTSTAMP:20260423T022634
CREATED:20221012T140205Z
LAST-MODIFIED:20260322T003932Z
UID:10000061-1697366700-1697371200@sgbchurch.com
SUMMARY:Sunday Morning Service
DESCRIPTION:Prayer\nSinging\nFellowship\nPreaching\nAll to the Glory of God
URL:https://sgbchurch.com/event/sunday-morning-service-2/2023-10-15/
LOCATION:South Gardiner Baptist Church
CATEGORIES:Regular Services
END:VEVENT
BEGIN:VEVENT
DTSTART;TZID=America/New_York:20231011T183000
DTEND;TZID=America/New_York:20231011T193000
DTSTAMP:20260423T022634
CREATED:20221012T141215Z
LAST-MODIFIED:20251106T163231Z
UID:10001114-1697049000-1697052600@sgbchurch.com
SUMMARY:Prayer Meeting
DESCRIPTION:
URL:https://sgbchurch.com/event/prayer-meeting-2/2023-10-11/
LOCATION:South Gardiner Baptist Church
CATEGORIES:Regular Services
END:VEVENT
BEGIN:VEVENT
DTSTART;TZID=America/New_York:20231008T104500
DTEND;TZID=America/New_York:20231008T120000
DTSTAMP:20260423T022634
CREATED:20221012T140205Z
LAST-MODIFIED:20260322T003932Z
UID:10000060-1696761900-1696766400@sgbchurch.com
SUMMARY:Sunday Morning Service
DESCRIPTION:Prayer\nSinging\nFellowship\nPreaching\nAll to the Glory of God
URL:https://sgbchurch.com/event/sunday-morning-service-2/2023-10-08/
LOCATION:South Gardiner Baptist Church
CATEGORIES:Regular Services
END:VEVENT
BEGIN:VEVENT
DTSTART;TZID=America/New_York:20231004T183000
DTEND;TZID=America/New_York:20231004T193000
DTSTAMP:20260423T022634
CREATED:20221012T141215Z
LAST-MODIFIED:20251106T163231Z
UID:10001113-1696444200-1696447800@sgbchurch.com
SUMMARY:Prayer Meeting
DESCRIPTION:
URL:https://sgbchurch.com/event/prayer-meeting-2/2023-10-04/
LOCATION:South Gardiner Baptist Church
CATEGORIES:Regular Services
END:VEVENT
END:VCALENDAR