BEGIN:VCALENDAR
VERSION:2.0
PRODID:-//South Gardiner Baptist Church - ECPv6.15.20//NONSGML v1.0//EN
CALSCALE:GREGORIAN
METHOD:PUBLISH
X-ORIGINAL-URL:https://sgbchurch.com
X-WR-CALDESC:Events for South Gardiner Baptist Church
REFRESH-INTERVAL;VALUE=DURATION:PT1H
X-Robots-Tag:noindex
X-PUBLISHED-TTL:PT1H
BEGIN:VTIMEZONE
TZID:America/New_York
BEGIN:DAYLIGHT
TZOFFSETFROM:-0500
TZOFFSETTO:-0400
TZNAME:EDT
DTSTART:20230312T070000
END:DAYLIGHT
BEGIN:STANDARD
TZOFFSETFROM:-0400
TZOFFSETTO:-0500
TZNAME:EST
DTSTART:20231105T060000
END:STANDARD
BEGIN:DAYLIGHT
TZOFFSETFROM:-0500
TZOFFSETTO:-0400
TZNAME:EDT
DTSTART:20240310T070000
END:DAYLIGHT
BEGIN:STANDARD
TZOFFSETFROM:-0400
TZOFFSETTO:-0500
TZNAME:EST
DTSTART:20241103T060000
END:STANDARD
BEGIN:DAYLIGHT
TZOFFSETFROM:-0500
TZOFFSETTO:-0400
TZNAME:EDT
DTSTART:20250309T070000
END:DAYLIGHT
BEGIN:STANDARD
TZOFFSETFROM:-0400
TZOFFSETTO:-0500
TZNAME:EST
DTSTART:20251102T060000
END:STANDARD
END:VTIMEZONE
BEGIN:VEVENT
DTSTART;TZID=America/New_York:20240728T104500
DTEND;TZID=America/New_York:20240728T120000
DTSTAMP:20260422T113624
CREATED:20221012T140205Z
LAST-MODIFIED:20260322T003932Z
UID:10000102-1722163500-1722168000@sgbchurch.com
SUMMARY:Sunday Morning Service
DESCRIPTION:Prayer\nSinging\nFellowship\nPreaching\nAll to the Glory of God
URL:https://sgbchurch.com/event/sunday-morning-service-2/2024-07-28/
LOCATION:South Gardiner Baptist Church
CATEGORIES:Regular Services
END:VEVENT
BEGIN:VEVENT
DTSTART;TZID=America/New_York:20240727T070000
DTEND;TZID=America/New_York:20240727T083000
DTSTAMP:20260422T113624
CREATED:20240704T114313Z
LAST-MODIFIED:20240704T114313Z
UID:10001373-1722063600-1722069000@sgbchurch.com
SUMMARY:Men's Prayer Breakfast
DESCRIPTION:The men and boys of South Gardiner Baptist Church will be gathering for a hot breakfast and prayer time. Men and boys are encouraged to join us for a time of fellowship\, prayer\, and encouragement.\nWe’ll start with a short time of prayer and breakfast. After breakfast there will be a brief challenge from God’s Word. After the Bible Challenge there will be an extended prayer time. Often the extended prayer time runs past 8:30\, but you are welcome to join us for as long as you are able to stay.
URL:https://sgbchurch.com/event/mens-prayer-breakfast-3/
LOCATION:South Gardiner Baptist Church
CATEGORIES:Special Services
END:VEVENT
BEGIN:VEVENT
DTSTART;TZID=America/New_York:20240724T183000
DTEND;TZID=America/New_York:20240724T193000
DTSTAMP:20260422T113624
CREATED:20221012T141215Z
LAST-MODIFIED:20251106T163231Z
UID:10001155-1721845800-1721849400@sgbchurch.com
SUMMARY:Prayer Meeting
DESCRIPTION:
URL:https://sgbchurch.com/event/prayer-meeting-2/2024-07-24/
LOCATION:South Gardiner Baptist Church
CATEGORIES:Regular Services
END:VEVENT
BEGIN:VEVENT
DTSTART;TZID=America/New_York:20240721T104500
DTEND;TZID=America/New_York:20240721T120000
DTSTAMP:20260422T113624
CREATED:20221012T140205Z
LAST-MODIFIED:20260322T003932Z
UID:10000101-1721558700-1721563200@sgbchurch.com
SUMMARY:Sunday Morning Service
DESCRIPTION:Prayer\nSinging\nFellowship\nPreaching\nAll to the Glory of God
URL:https://sgbchurch.com/event/sunday-morning-service-2/2024-07-21/
LOCATION:South Gardiner Baptist Church
CATEGORIES:Regular Services
END:VEVENT
BEGIN:VEVENT
DTSTART;TZID=America/New_York:20240717T183000
DTEND;TZID=America/New_York:20240717T193000
DTSTAMP:20260422T113624
CREATED:20221012T141215Z
LAST-MODIFIED:20251106T163231Z
UID:10001154-1721241000-1721244600@sgbchurch.com
SUMMARY:Prayer Meeting
DESCRIPTION:
URL:https://sgbchurch.com/event/prayer-meeting-2/2024-07-17/
LOCATION:South Gardiner Baptist Church
CATEGORIES:Regular Services
END:VEVENT
BEGIN:VEVENT
DTSTART;TZID=America/New_York:20240714T104500
DTEND;TZID=America/New_York:20240714T120000
DTSTAMP:20260422T113624
CREATED:20221012T140205Z
LAST-MODIFIED:20260322T003932Z
UID:10000100-1720953900-1720958400@sgbchurch.com
SUMMARY:Sunday Morning Service
DESCRIPTION:Prayer\nSinging\nFellowship\nPreaching\nAll to the Glory of God
URL:https://sgbchurch.com/event/sunday-morning-service-2/2024-07-14/
LOCATION:South Gardiner Baptist Church
CATEGORIES:Regular Services
END:VEVENT
BEGIN:VEVENT
DTSTART;TZID=America/New_York:20240710T183000
DTEND;TZID=America/New_York:20240710T193000
DTSTAMP:20260422T113624
CREATED:20221012T141215Z
LAST-MODIFIED:20251106T163231Z
UID:10001153-1720636200-1720639800@sgbchurch.com
SUMMARY:Prayer Meeting
DESCRIPTION:
URL:https://sgbchurch.com/event/prayer-meeting-2/2024-07-10/
LOCATION:South Gardiner Baptist Church
CATEGORIES:Regular Services
END:VEVENT
BEGIN:VEVENT
DTSTART;TZID=America/New_York:20240707T104500
DTEND;TZID=America/New_York:20240707T120000
DTSTAMP:20260422T113624
CREATED:20221012T140205Z
LAST-MODIFIED:20260322T003932Z
UID:10000099-1720349100-1720353600@sgbchurch.com
SUMMARY:Sunday Morning Service
DESCRIPTION:Prayer\nSinging\nFellowship\nPreaching\nAll to the Glory of God
URL:https://sgbchurch.com/event/sunday-morning-service-2/2024-07-07/
LOCATION:South Gardiner Baptist Church
CATEGORIES:Regular Services
END:VEVENT
BEGIN:VEVENT
DTSTART;TZID=America/New_York:20240703T183000
DTEND;TZID=America/New_York:20240703T193000
DTSTAMP:20260422T113624
CREATED:20221012T141215Z
LAST-MODIFIED:20251106T163231Z
UID:10001152-1720031400-1720035000@sgbchurch.com
SUMMARY:Prayer Meeting
DESCRIPTION:
URL:https://sgbchurch.com/event/prayer-meeting-2/2024-07-03/
LOCATION:South Gardiner Baptist Church
CATEGORIES:Regular Services
END:VEVENT
BEGIN:VEVENT
DTSTART;TZID=America/New_York:20240630T104500
DTEND;TZID=America/New_York:20240630T120000
DTSTAMP:20260422T113624
CREATED:20221012T140205Z
LAST-MODIFIED:20260322T003932Z
UID:10000098-1719744300-1719748800@sgbchurch.com
SUMMARY:Sunday Morning Service
DESCRIPTION:Prayer\nSinging\nFellowship\nPreaching\nAll to the Glory of God
URL:https://sgbchurch.com/event/sunday-morning-service-2/2024-06-30/
LOCATION:South Gardiner Baptist Church
CATEGORIES:Regular Services
END:VEVENT
BEGIN:VEVENT
DTSTART;TZID=America/New_York:20240626T183000
DTEND;TZID=America/New_York:20240626T193000
DTSTAMP:20260422T113624
CREATED:20221012T141215Z
LAST-MODIFIED:20251106T163231Z
UID:10001151-1719426600-1719430200@sgbchurch.com
SUMMARY:Prayer Meeting
DESCRIPTION:
URL:https://sgbchurch.com/event/prayer-meeting-2/2024-06-26/
LOCATION:South Gardiner Baptist Church
CATEGORIES:Regular Services
END:VEVENT
BEGIN:VEVENT
DTSTART;TZID=America/New_York:20240623T104500
DTEND;TZID=America/New_York:20240623T120000
DTSTAMP:20260422T113624
CREATED:20221012T140205Z
LAST-MODIFIED:20260322T003932Z
UID:10000097-1719139500-1719144000@sgbchurch.com
SUMMARY:Sunday Morning Service
DESCRIPTION:Prayer\nSinging\nFellowship\nPreaching\nAll to the Glory of God
URL:https://sgbchurch.com/event/sunday-morning-service-2/2024-06-23/
LOCATION:South Gardiner Baptist Church
CATEGORIES:Regular Services
END:VEVENT
BEGIN:VEVENT
DTSTART;TZID=America/New_York:20240619T183000
DTEND;TZID=America/New_York:20240619T193000
DTSTAMP:20260422T113624
CREATED:20221012T141215Z
LAST-MODIFIED:20251106T163231Z
UID:10001150-1718821800-1718825400@sgbchurch.com
SUMMARY:Prayer Meeting
DESCRIPTION:
URL:https://sgbchurch.com/event/prayer-meeting-2/2024-06-19/
LOCATION:South Gardiner Baptist Church
CATEGORIES:Regular Services
END:VEVENT
BEGIN:VEVENT
DTSTART;TZID=America/New_York:20240616T104500
DTEND;TZID=America/New_York:20240616T120000
DTSTAMP:20260422T113624
CREATED:20221012T140205Z
LAST-MODIFIED:20260322T003932Z
UID:10000096-1718534700-1718539200@sgbchurch.com
SUMMARY:Sunday Morning Service
DESCRIPTION:Prayer\nSinging\nFellowship\nPreaching\nAll to the Glory of God
URL:https://sgbchurch.com/event/sunday-morning-service-2/2024-06-16/
LOCATION:South Gardiner Baptist Church
CATEGORIES:Regular Services
END:VEVENT
BEGIN:VEVENT
DTSTART;TZID=America/New_York:20240612T183000
DTEND;TZID=America/New_York:20240612T193000
DTSTAMP:20260422T113624
CREATED:20221012T141215Z
LAST-MODIFIED:20251106T163231Z
UID:10001149-1718217000-1718220600@sgbchurch.com
SUMMARY:Prayer Meeting
DESCRIPTION:
URL:https://sgbchurch.com/event/prayer-meeting-2/2024-06-12/
LOCATION:South Gardiner Baptist Church
CATEGORIES:Regular Services
END:VEVENT
BEGIN:VEVENT
DTSTART;TZID=America/New_York:20240609T104500
DTEND;TZID=America/New_York:20240609T120000
DTSTAMP:20260422T113624
CREATED:20221012T140205Z
LAST-MODIFIED:20260322T003932Z
UID:10000095-1717929900-1717934400@sgbchurch.com
SUMMARY:Sunday Morning Service
DESCRIPTION:Prayer\nSinging\nFellowship\nPreaching\nAll to the Glory of God
URL:https://sgbchurch.com/event/sunday-morning-service-2/2024-06-09/
LOCATION:South Gardiner Baptist Church
CATEGORIES:Regular Services
END:VEVENT
BEGIN:VEVENT
DTSTART;TZID=America/New_York:20240605T183000
DTEND;TZID=America/New_York:20240605T193000
DTSTAMP:20260422T113624
CREATED:20221012T141215Z
LAST-MODIFIED:20251106T163231Z
UID:10001148-1717612200-1717615800@sgbchurch.com
SUMMARY:Prayer Meeting
DESCRIPTION:
URL:https://sgbchurch.com/event/prayer-meeting-2/2024-06-05/
LOCATION:South Gardiner Baptist Church
CATEGORIES:Regular Services
END:VEVENT
BEGIN:VEVENT
DTSTART;TZID=America/New_York:20240602T104500
DTEND;TZID=America/New_York:20240602T120000
DTSTAMP:20260422T113624
CREATED:20221012T140205Z
LAST-MODIFIED:20260322T003932Z
UID:10000094-1717325100-1717329600@sgbchurch.com
SUMMARY:Sunday Morning Service
DESCRIPTION:Prayer\nSinging\nFellowship\nPreaching\nAll to the Glory of God
URL:https://sgbchurch.com/event/sunday-morning-service-2/2024-06-02/
LOCATION:South Gardiner Baptist Church
CATEGORIES:Regular Services
END:VEVENT
BEGIN:VEVENT
DTSTART;TZID=America/New_York:20240529T183000
DTEND;TZID=America/New_York:20240529T193000
DTSTAMP:20260422T113624
CREATED:20221012T141215Z
LAST-MODIFIED:20251106T163231Z
UID:10001147-1717007400-1717011000@sgbchurch.com
SUMMARY:Prayer Meeting
DESCRIPTION:
URL:https://sgbchurch.com/event/prayer-meeting-2/2024-05-29/
LOCATION:South Gardiner Baptist Church
CATEGORIES:Regular Services
END:VEVENT
BEGIN:VEVENT
DTSTART;TZID=America/New_York:20240526T104500
DTEND;TZID=America/New_York:20240526T120000
DTSTAMP:20260422T113624
CREATED:20221012T140205Z
LAST-MODIFIED:20260322T003932Z
UID:10000093-1716720300-1716724800@sgbchurch.com
SUMMARY:Sunday Morning Service
DESCRIPTION:Prayer\nSinging\nFellowship\nPreaching\nAll to the Glory of God
URL:https://sgbchurch.com/event/sunday-morning-service-2/2024-05-26/
LOCATION:South Gardiner Baptist Church
CATEGORIES:Regular Services
END:VEVENT
BEGIN:VEVENT
DTSTART;TZID=America/New_York:20240522T183000
DTEND;TZID=America/New_York:20240522T193000
DTSTAMP:20260422T113624
CREATED:20221012T141215Z
LAST-MODIFIED:20251106T163231Z
UID:10001146-1716402600-1716406200@sgbchurch.com
SUMMARY:Prayer Meeting
DESCRIPTION:
URL:https://sgbchurch.com/event/prayer-meeting-2/2024-05-22/
LOCATION:South Gardiner Baptist Church
CATEGORIES:Regular Services
END:VEVENT
BEGIN:VEVENT
DTSTART;TZID=America/New_York:20240519T104500
DTEND;TZID=America/New_York:20240519T120000
DTSTAMP:20260422T113624
CREATED:20221012T140205Z
LAST-MODIFIED:20260322T003932Z
UID:10000092-1716115500-1716120000@sgbchurch.com
SUMMARY:Sunday Morning Service
DESCRIPTION:Prayer\nSinging\nFellowship\nPreaching\nAll to the Glory of God
URL:https://sgbchurch.com/event/sunday-morning-service-2/2024-05-19/
LOCATION:South Gardiner Baptist Church
CATEGORIES:Regular Services
END:VEVENT
BEGIN:VEVENT
DTSTART;TZID=America/New_York:20240518T080000
DTEND;TZID=America/New_York:20240518T120000
DTSTAMP:20260422T113624
CREATED:20240425T134151Z
LAST-MODIFIED:20240425T134151Z
UID:10001371-1716019200-1716033600@sgbchurch.com
SUMMARY:Church Spring Cleanup/Workday
DESCRIPTION:
URL:https://sgbchurch.com/event/church-spring-cleanup-workday/
LOCATION:South Gardiner Baptist Church
END:VEVENT
BEGIN:VEVENT
DTSTART;TZID=America/New_York:20240515T183000
DTEND;TZID=America/New_York:20240515T193000
DTSTAMP:20260422T113624
CREATED:20221012T141215Z
LAST-MODIFIED:20251106T163231Z
UID:10001145-1715797800-1715801400@sgbchurch.com
SUMMARY:Prayer Meeting
DESCRIPTION:
URL:https://sgbchurch.com/event/prayer-meeting-2/2024-05-15/
LOCATION:South Gardiner Baptist Church
CATEGORIES:Regular Services
END:VEVENT
BEGIN:VEVENT
DTSTART;TZID=America/New_York:20240512T180000
DTEND;TZID=America/New_York:20240512T183000
DTSTAMP:20260422T113624
CREATED:20240425T134041Z
LAST-MODIFIED:20240425T134041Z
UID:10001370-1715536800-1715538600@sgbchurch.com
SUMMARY:Church Business Meeting
DESCRIPTION:
URL:https://sgbchurch.com/event/church-business-meeting/
LOCATION:South Gardiner Baptist Church
END:VEVENT
BEGIN:VEVENT
DTSTART;TZID=America/New_York:20240512T104500
DTEND;TZID=America/New_York:20240512T120000
DTSTAMP:20260422T113624
CREATED:20221012T140205Z
LAST-MODIFIED:20260322T003932Z
UID:10000091-1715510700-1715515200@sgbchurch.com
SUMMARY:Sunday Morning Service
DESCRIPTION:Prayer\nSinging\nFellowship\nPreaching\nAll to the Glory of God
URL:https://sgbchurch.com/event/sunday-morning-service-2/2024-05-12/
LOCATION:South Gardiner Baptist Church
CATEGORIES:Regular Services
END:VEVENT
BEGIN:VEVENT
DTSTART;TZID=America/New_York:20240508T183000
DTEND;TZID=America/New_York:20240508T193000
DTSTAMP:20260422T113624
CREATED:20221012T141215Z
LAST-MODIFIED:20251106T163231Z
UID:10001144-1715193000-1715196600@sgbchurch.com
SUMMARY:Prayer Meeting
DESCRIPTION:
URL:https://sgbchurch.com/event/prayer-meeting-2/2024-05-08/
LOCATION:South Gardiner Baptist Church
CATEGORIES:Regular Services
END:VEVENT
BEGIN:VEVENT
DTSTART;TZID=America/New_York:20240505T104500
DTEND;TZID=America/New_York:20240505T120000
DTSTAMP:20260422T113624
CREATED:20221012T140205Z
LAST-MODIFIED:20260322T003932Z
UID:10000090-1714905900-1714910400@sgbchurch.com
SUMMARY:Sunday Morning Service
DESCRIPTION:Prayer\nSinging\nFellowship\nPreaching\nAll to the Glory of God
URL:https://sgbchurch.com/event/sunday-morning-service-2/2024-05-05/
LOCATION:South Gardiner Baptist Church
CATEGORIES:Regular Services
END:VEVENT
BEGIN:VEVENT
DTSTART;TZID=America/New_York:20240501T183000
DTEND;TZID=America/New_York:20240501T193000
DTSTAMP:20260422T113624
CREATED:20221012T141215Z
LAST-MODIFIED:20251106T163231Z
UID:10001143-1714588200-1714591800@sgbchurch.com
SUMMARY:Prayer Meeting
DESCRIPTION:
URL:https://sgbchurch.com/event/prayer-meeting-2/2024-05-01/
LOCATION:South Gardiner Baptist Church
CATEGORIES:Regular Services
END:VEVENT
BEGIN:VEVENT
DTSTART;TZID=America/New_York:20240428T104500
DTEND;TZID=America/New_York:20240428T120000
DTSTAMP:20260422T113624
CREATED:20221012T140205Z
LAST-MODIFIED:20260322T003932Z
UID:10000089-1714301100-1714305600@sgbchurch.com
SUMMARY:Sunday Morning Service
DESCRIPTION:Prayer\nSinging\nFellowship\nPreaching\nAll to the Glory of God
URL:https://sgbchurch.com/event/sunday-morning-service-2/2024-04-28/
LOCATION:South Gardiner Baptist Church
CATEGORIES:Regular Services
END:VEVENT
END:VCALENDAR