BEGIN:VCALENDAR
VERSION:2.0
PRODID:-//South Gardiner Baptist Church - ECPv6.15.20//NONSGML v1.0//EN
CALSCALE:GREGORIAN
METHOD:PUBLISH
X-ORIGINAL-URL:https://sgbchurch.com
X-WR-CALDESC:Events for South Gardiner Baptist Church
REFRESH-INTERVAL;VALUE=DURATION:PT1H
X-Robots-Tag:noindex
X-PUBLISHED-TTL:PT1H
BEGIN:VTIMEZONE
TZID:America/New_York
BEGIN:DAYLIGHT
TZOFFSETFROM:-0500
TZOFFSETTO:-0400
TZNAME:EDT
DTSTART:20230312T070000
END:DAYLIGHT
BEGIN:STANDARD
TZOFFSETFROM:-0400
TZOFFSETTO:-0500
TZNAME:EST
DTSTART:20231105T060000
END:STANDARD
BEGIN:DAYLIGHT
TZOFFSETFROM:-0500
TZOFFSETTO:-0400
TZNAME:EDT
DTSTART:20240310T070000
END:DAYLIGHT
BEGIN:STANDARD
TZOFFSETFROM:-0400
TZOFFSETTO:-0500
TZNAME:EST
DTSTART:20241103T060000
END:STANDARD
BEGIN:DAYLIGHT
TZOFFSETFROM:-0500
TZOFFSETTO:-0400
TZNAME:EDT
DTSTART:20250309T070000
END:DAYLIGHT
BEGIN:STANDARD
TZOFFSETFROM:-0400
TZOFFSETTO:-0500
TZNAME:EST
DTSTART:20251102T060000
END:STANDARD
END:VTIMEZONE
BEGIN:VEVENT
DTSTART;TZID=America/New_York:20241124T104500
DTEND;TZID=America/New_York:20241124T120000
DTSTAMP:20260422T044951
CREATED:20221012T140205Z
LAST-MODIFIED:20260322T003932Z
UID:10000119-1732445100-1732449600@sgbchurch.com
SUMMARY:Sunday Morning Service
DESCRIPTION:Prayer\nSinging\nFellowship\nPreaching\nAll to the Glory of God
URL:https://sgbchurch.com/event/sunday-morning-service-2/2024-11-24/
LOCATION:South Gardiner Baptist Church
CATEGORIES:Regular Services
END:VEVENT
BEGIN:VEVENT
DTSTART;TZID=America/New_York:20241120T183000
DTEND;TZID=America/New_York:20241120T193000
DTSTAMP:20260422T044951
CREATED:20221012T141215Z
LAST-MODIFIED:20251106T163231Z
UID:10001172-1732127400-1732131000@sgbchurch.com
SUMMARY:Prayer Meeting
DESCRIPTION:
URL:https://sgbchurch.com/event/prayer-meeting-2/2024-11-20/
LOCATION:South Gardiner Baptist Church
CATEGORIES:Regular Services
END:VEVENT
BEGIN:VEVENT
DTSTART;TZID=America/New_York:20241117T104500
DTEND;TZID=America/New_York:20241117T120000
DTSTAMP:20260422T044951
CREATED:20221012T140205Z
LAST-MODIFIED:20260322T003932Z
UID:10000118-1731840300-1731844800@sgbchurch.com
SUMMARY:Sunday Morning Service
DESCRIPTION:Prayer\nSinging\nFellowship\nPreaching\nAll to the Glory of God
URL:https://sgbchurch.com/event/sunday-morning-service-2/2024-11-17/
LOCATION:South Gardiner Baptist Church
CATEGORIES:Regular Services
END:VEVENT
BEGIN:VEVENT
DTSTART;TZID=America/New_York:20241113T183000
DTEND;TZID=America/New_York:20241113T193000
DTSTAMP:20260422T044951
CREATED:20221012T141215Z
LAST-MODIFIED:20251106T163231Z
UID:10001171-1731522600-1731526200@sgbchurch.com
SUMMARY:Prayer Meeting
DESCRIPTION:
URL:https://sgbchurch.com/event/prayer-meeting-2/2024-11-13/
LOCATION:South Gardiner Baptist Church
CATEGORIES:Regular Services
END:VEVENT
BEGIN:VEVENT
DTSTART;TZID=America/New_York:20241110T104500
DTEND;TZID=America/New_York:20241110T120000
DTSTAMP:20260422T044951
CREATED:20221012T140205Z
LAST-MODIFIED:20260322T003932Z
UID:10000117-1731235500-1731240000@sgbchurch.com
SUMMARY:Sunday Morning Service
DESCRIPTION:Prayer\nSinging\nFellowship\nPreaching\nAll to the Glory of God
URL:https://sgbchurch.com/event/sunday-morning-service-2/2024-11-10/
LOCATION:South Gardiner Baptist Church
CATEGORIES:Regular Services
END:VEVENT
BEGIN:VEVENT
DTSTART;TZID=America/New_York:20241106T183000
DTEND;TZID=America/New_York:20241106T193000
DTSTAMP:20260422T044951
CREATED:20221012T141215Z
LAST-MODIFIED:20251106T163231Z
UID:10001170-1730917800-1730921400@sgbchurch.com
SUMMARY:Prayer Meeting
DESCRIPTION:
URL:https://sgbchurch.com/event/prayer-meeting-2/2024-11-06/
LOCATION:South Gardiner Baptist Church
CATEGORIES:Regular Services
END:VEVENT
BEGIN:VEVENT
DTSTART;TZID=America/New_York:20241103T104500
DTEND;TZID=America/New_York:20241103T120000
DTSTAMP:20260422T044951
CREATED:20221012T140205Z
LAST-MODIFIED:20260322T003932Z
UID:10000116-1730630700-1730635200@sgbchurch.com
SUMMARY:Sunday Morning Service
DESCRIPTION:Prayer\nSinging\nFellowship\nPreaching\nAll to the Glory of God
URL:https://sgbchurch.com/event/sunday-morning-service-2/2024-11-03/
LOCATION:South Gardiner Baptist Church
CATEGORIES:Regular Services
END:VEVENT
BEGIN:VEVENT
DTSTART;TZID=America/New_York:20241030T183000
DTEND;TZID=America/New_York:20241030T193000
DTSTAMP:20260422T044951
CREATED:20221012T141215Z
LAST-MODIFIED:20251106T163231Z
UID:10001169-1730313000-1730316600@sgbchurch.com
SUMMARY:Prayer Meeting
DESCRIPTION:
URL:https://sgbchurch.com/event/prayer-meeting-2/2024-10-30/
LOCATION:South Gardiner Baptist Church
CATEGORIES:Regular Services
END:VEVENT
BEGIN:VEVENT
DTSTART;TZID=America/New_York:20241027T104500
DTEND;TZID=America/New_York:20241027T120000
DTSTAMP:20260422T044951
CREATED:20221012T140205Z
LAST-MODIFIED:20260322T003932Z
UID:10000115-1730025900-1730030400@sgbchurch.com
SUMMARY:Sunday Morning Service
DESCRIPTION:Prayer\nSinging\nFellowship\nPreaching\nAll to the Glory of God
URL:https://sgbchurch.com/event/sunday-morning-service-2/2024-10-27/
LOCATION:South Gardiner Baptist Church
CATEGORIES:Regular Services
END:VEVENT
BEGIN:VEVENT
DTSTART;TZID=America/New_York:20241023T183000
DTEND;TZID=America/New_York:20241023T193000
DTSTAMP:20260422T044951
CREATED:20221012T141215Z
LAST-MODIFIED:20251106T163231Z
UID:10001168-1729708200-1729711800@sgbchurch.com
SUMMARY:Prayer Meeting
DESCRIPTION:
URL:https://sgbchurch.com/event/prayer-meeting-2/2024-10-23/
LOCATION:South Gardiner Baptist Church
CATEGORIES:Regular Services
END:VEVENT
BEGIN:VEVENT
DTSTART;TZID=America/New_York:20241020T104500
DTEND;TZID=America/New_York:20241020T120000
DTSTAMP:20260422T044951
CREATED:20221012T140205Z
LAST-MODIFIED:20260322T003932Z
UID:10000114-1729421100-1729425600@sgbchurch.com
SUMMARY:Sunday Morning Service
DESCRIPTION:Prayer\nSinging\nFellowship\nPreaching\nAll to the Glory of God
URL:https://sgbchurch.com/event/sunday-morning-service-2/2024-10-20/
LOCATION:South Gardiner Baptist Church
CATEGORIES:Regular Services
END:VEVENT
BEGIN:VEVENT
DTSTART;TZID=America/New_York:20241020T094500
DTEND;TZID=America/New_York:20241025T190000
DTSTAMP:20260422T044951
CREATED:20240922T192655Z
LAST-MODIFIED:20240922T192655Z
UID:10001378-1729417500-1729882800@sgbchurch.com
SUMMARY:Evangelistic Meetings
DESCRIPTION:Join us for our special Evangelistic Meetings with Mike Manor.
URL:https://sgbchurch.com/event/evangelistic-meetings/
LOCATION:South Gardiner Baptist Church
CATEGORIES:Special Services
END:VEVENT
BEGIN:VEVENT
DTSTART;TZID=America/New_York:20241016T183000
DTEND;TZID=America/New_York:20241016T193000
DTSTAMP:20260422T044951
CREATED:20221012T141215Z
LAST-MODIFIED:20251106T163231Z
UID:10001167-1729103400-1729107000@sgbchurch.com
SUMMARY:Prayer Meeting
DESCRIPTION:
URL:https://sgbchurch.com/event/prayer-meeting-2/2024-10-16/
LOCATION:South Gardiner Baptist Church
CATEGORIES:Regular Services
END:VEVENT
BEGIN:VEVENT
DTSTART;TZID=America/New_York:20241013T104500
DTEND;TZID=America/New_York:20241013T120000
DTSTAMP:20260422T044951
CREATED:20221012T140205Z
LAST-MODIFIED:20260322T003932Z
UID:10000113-1728816300-1728820800@sgbchurch.com
SUMMARY:Sunday Morning Service
DESCRIPTION:Prayer\nSinging\nFellowship\nPreaching\nAll to the Glory of God
URL:https://sgbchurch.com/event/sunday-morning-service-2/2024-10-13/
LOCATION:South Gardiner Baptist Church
CATEGORIES:Regular Services
END:VEVENT
BEGIN:VEVENT
DTSTART;TZID=America/New_York:20241009T183000
DTEND;TZID=America/New_York:20241009T193000
DTSTAMP:20260422T044951
CREATED:20221012T141215Z
LAST-MODIFIED:20251106T163231Z
UID:10001166-1728498600-1728502200@sgbchurch.com
SUMMARY:Prayer Meeting
DESCRIPTION:
URL:https://sgbchurch.com/event/prayer-meeting-2/2024-10-09/
LOCATION:South Gardiner Baptist Church
CATEGORIES:Regular Services
END:VEVENT
BEGIN:VEVENT
DTSTART;TZID=America/New_York:20241006T104500
DTEND;TZID=America/New_York:20241006T120000
DTSTAMP:20260422T044951
CREATED:20221012T140205Z
LAST-MODIFIED:20260322T003932Z
UID:10000112-1728211500-1728216000@sgbchurch.com
SUMMARY:Sunday Morning Service
DESCRIPTION:Prayer\nSinging\nFellowship\nPreaching\nAll to the Glory of God
URL:https://sgbchurch.com/event/sunday-morning-service-2/2024-10-06/
LOCATION:South Gardiner Baptist Church
CATEGORIES:Regular Services
END:VEVENT
BEGIN:VEVENT
DTSTART;TZID=America/New_York:20241002T183000
DTEND;TZID=America/New_York:20241002T193000
DTSTAMP:20260422T044951
CREATED:20221012T141215Z
LAST-MODIFIED:20251106T163231Z
UID:10001165-1727893800-1727897400@sgbchurch.com
SUMMARY:Prayer Meeting
DESCRIPTION:
URL:https://sgbchurch.com/event/prayer-meeting-2/2024-10-02/
LOCATION:South Gardiner Baptist Church
CATEGORIES:Regular Services
END:VEVENT
BEGIN:VEVENT
DTSTART;TZID=America/New_York:20240929T104500
DTEND;TZID=America/New_York:20240929T120000
DTSTAMP:20260422T044951
CREATED:20221012T140205Z
LAST-MODIFIED:20260322T003932Z
UID:10000111-1727606700-1727611200@sgbchurch.com
SUMMARY:Sunday Morning Service
DESCRIPTION:Prayer\nSinging\nFellowship\nPreaching\nAll to the Glory of God
URL:https://sgbchurch.com/event/sunday-morning-service-2/2024-09-29/
LOCATION:South Gardiner Baptist Church
CATEGORIES:Regular Services
END:VEVENT
BEGIN:VEVENT
DTSTART;TZID=America/New_York:20240925T183000
DTEND;TZID=America/New_York:20240925T193000
DTSTAMP:20260422T044951
CREATED:20221012T141215Z
LAST-MODIFIED:20251106T163231Z
UID:10001164-1727289000-1727292600@sgbchurch.com
SUMMARY:Prayer Meeting
DESCRIPTION:
URL:https://sgbchurch.com/event/prayer-meeting-2/2024-09-25/
LOCATION:South Gardiner Baptist Church
CATEGORIES:Regular Services
END:VEVENT
BEGIN:VEVENT
DTSTART;TZID=America/New_York:20240922T104500
DTEND;TZID=America/New_York:20240922T120000
DTSTAMP:20260422T044951
CREATED:20221012T140205Z
LAST-MODIFIED:20260322T003932Z
UID:10000110-1727001900-1727006400@sgbchurch.com
SUMMARY:Sunday Morning Service
DESCRIPTION:Prayer\nSinging\nFellowship\nPreaching\nAll to the Glory of God
URL:https://sgbchurch.com/event/sunday-morning-service-2/2024-09-22/
LOCATION:South Gardiner Baptist Church
CATEGORIES:Regular Services
END:VEVENT
BEGIN:VEVENT
DTSTART;TZID=America/New_York:20240918T183000
DTEND;TZID=America/New_York:20240918T193000
DTSTAMP:20260422T044951
CREATED:20221012T141215Z
LAST-MODIFIED:20251106T163231Z
UID:10001163-1726684200-1726687800@sgbchurch.com
SUMMARY:Prayer Meeting
DESCRIPTION:
URL:https://sgbchurch.com/event/prayer-meeting-2/2024-09-18/
LOCATION:South Gardiner Baptist Church
CATEGORIES:Regular Services
END:VEVENT
BEGIN:VEVENT
DTSTART;TZID=America/New_York:20240915T104500
DTEND;TZID=America/New_York:20240915T120000
DTSTAMP:20260422T044951
CREATED:20221012T140205Z
LAST-MODIFIED:20260322T003932Z
UID:10000109-1726397100-1726401600@sgbchurch.com
SUMMARY:Sunday Morning Service
DESCRIPTION:Prayer\nSinging\nFellowship\nPreaching\nAll to the Glory of God
URL:https://sgbchurch.com/event/sunday-morning-service-2/2024-09-15/
LOCATION:South Gardiner Baptist Church
CATEGORIES:Regular Services
END:VEVENT
BEGIN:VEVENT
DTSTART;TZID=America/New_York:20240915T094500
DTEND;TZID=America/New_York:20240919T193000
DTSTAMP:20260422T044951
CREATED:20240425T134353Z
LAST-MODIFIED:20240826T113135Z
UID:10001372-1726393500-1726774200@sgbchurch.com
SUMMARY:Revival Services with Evangelist Rich Tozour
DESCRIPTION:
URL:https://sgbchurch.com/event/revival-services-with-evangelist-rich-tozour/
LOCATION:South Gardiner Baptist Church
CATEGORIES:Special Services
END:VEVENT
BEGIN:VEVENT
DTSTART;TZID=America/New_York:20240911T183000
DTEND;TZID=America/New_York:20240911T193000
DTSTAMP:20260422T044951
CREATED:20221012T141215Z
LAST-MODIFIED:20251106T163231Z
UID:10001162-1726079400-1726083000@sgbchurch.com
SUMMARY:Prayer Meeting
DESCRIPTION:
URL:https://sgbchurch.com/event/prayer-meeting-2/2024-09-11/
LOCATION:South Gardiner Baptist Church
CATEGORIES:Regular Services
END:VEVENT
BEGIN:VEVENT
DTSTART;TZID=America/New_York:20240908T104500
DTEND;TZID=America/New_York:20240908T120000
DTSTAMP:20260422T044951
CREATED:20221012T140205Z
LAST-MODIFIED:20260322T003932Z
UID:10000108-1725792300-1725796800@sgbchurch.com
SUMMARY:Sunday Morning Service
DESCRIPTION:Prayer\nSinging\nFellowship\nPreaching\nAll to the Glory of God
URL:https://sgbchurch.com/event/sunday-morning-service-2/2024-09-08/
LOCATION:South Gardiner Baptist Church
CATEGORIES:Regular Services
END:VEVENT
BEGIN:VEVENT
DTSTART;TZID=America/New_York:20240904T183000
DTEND;TZID=America/New_York:20240904T193000
DTSTAMP:20260422T044951
CREATED:20221012T141215Z
LAST-MODIFIED:20251106T163231Z
UID:10001161-1725474600-1725478200@sgbchurch.com
SUMMARY:Prayer Meeting
DESCRIPTION:
URL:https://sgbchurch.com/event/prayer-meeting-2/2024-09-04/
LOCATION:South Gardiner Baptist Church
CATEGORIES:Regular Services
END:VEVENT
BEGIN:VEVENT
DTSTART;TZID=America/New_York:20240901T104500
DTEND;TZID=America/New_York:20240901T120000
DTSTAMP:20260422T044951
CREATED:20221012T140205Z
LAST-MODIFIED:20260322T003932Z
UID:10000107-1725187500-1725192000@sgbchurch.com
SUMMARY:Sunday Morning Service
DESCRIPTION:Prayer\nSinging\nFellowship\nPreaching\nAll to the Glory of God
URL:https://sgbchurch.com/event/sunday-morning-service-2/2024-09-01/
LOCATION:South Gardiner Baptist Church
CATEGORIES:Regular Services
END:VEVENT
BEGIN:VEVENT
DTSTART;TZID=America/New_York:20240828T183000
DTEND;TZID=America/New_York:20240828T193000
DTSTAMP:20260422T044951
CREATED:20221012T141215Z
LAST-MODIFIED:20251106T163231Z
UID:10001160-1724869800-1724873400@sgbchurch.com
SUMMARY:Prayer Meeting
DESCRIPTION:
URL:https://sgbchurch.com/event/prayer-meeting-2/2024-08-28/
LOCATION:South Gardiner Baptist Church
CATEGORIES:Regular Services
END:VEVENT
BEGIN:VEVENT
DTSTART;TZID=America/New_York:20240825T104500
DTEND;TZID=America/New_York:20240825T120000
DTSTAMP:20260422T044951
CREATED:20221012T140205Z
LAST-MODIFIED:20260322T003932Z
UID:10000106-1724582700-1724587200@sgbchurch.com
SUMMARY:Sunday Morning Service
DESCRIPTION:Prayer\nSinging\nFellowship\nPreaching\nAll to the Glory of God
URL:https://sgbchurch.com/event/sunday-morning-service-2/2024-08-25/
LOCATION:South Gardiner Baptist Church
CATEGORIES:Regular Services
END:VEVENT
BEGIN:VEVENT
DTSTART;TZID=America/New_York:20240821T183000
DTEND;TZID=America/New_York:20240821T193000
DTSTAMP:20260422T044951
CREATED:20221012T141215Z
LAST-MODIFIED:20251106T163231Z
UID:10001159-1724265000-1724268600@sgbchurch.com
SUMMARY:Prayer Meeting
DESCRIPTION:
URL:https://sgbchurch.com/event/prayer-meeting-2/2024-08-21/
LOCATION:South Gardiner Baptist Church
CATEGORIES:Regular Services
END:VEVENT
END:VCALENDAR