BEGIN:VCALENDAR
VERSION:2.0
PRODID:-//South Gardiner Baptist Church - ECPv6.15.20//NONSGML v1.0//EN
CALSCALE:GREGORIAN
METHOD:PUBLISH
X-WR-CALNAME:South Gardiner Baptist Church
X-ORIGINAL-URL:https://sgbchurch.com
X-WR-CALDESC:Events for South Gardiner Baptist Church
REFRESH-INTERVAL;VALUE=DURATION:PT1H
X-Robots-Tag:noindex
X-PUBLISHED-TTL:PT1H
BEGIN:VTIMEZONE
TZID:America/New_York
BEGIN:DAYLIGHT
TZOFFSETFROM:-0500
TZOFFSETTO:-0400
TZNAME:EDT
DTSTART:20250309T070000
END:DAYLIGHT
BEGIN:STANDARD
TZOFFSETFROM:-0400
TZOFFSETTO:-0500
TZNAME:EST
DTSTART:20251102T060000
END:STANDARD
BEGIN:DAYLIGHT
TZOFFSETFROM:-0500
TZOFFSETTO:-0400
TZNAME:EDT
DTSTART:20260308T070000
END:DAYLIGHT
BEGIN:STANDARD
TZOFFSETFROM:-0400
TZOFFSETTO:-0500
TZNAME:EST
DTSTART:20261101T060000
END:STANDARD
BEGIN:DAYLIGHT
TZOFFSETFROM:-0500
TZOFFSETTO:-0400
TZNAME:EDT
DTSTART:20270314T070000
END:DAYLIGHT
BEGIN:STANDARD
TZOFFSETFROM:-0400
TZOFFSETTO:-0500
TZNAME:EST
DTSTART:20271107T060000
END:STANDARD
END:VTIMEZONE
BEGIN:VEVENT
DTSTART;TZID=America/New_York:20260422T183000
DTEND;TZID=America/New_York:20260422T193000
DTSTAMP:20260421T095353
CREATED:20221012T141215Z
LAST-MODIFIED:20251106T163231Z
UID:10001246-1776882600-1776886200@sgbchurch.com
SUMMARY:Prayer Meeting
DESCRIPTION:
URL:https://sgbchurch.com/event/prayer-meeting-2/2026-04-22/
LOCATION:South Gardiner Baptist Church
CATEGORIES:Regular Services
END:VEVENT
BEGIN:VEVENT
DTSTART;TZID=America/New_York:20260426T104500
DTEND;TZID=America/New_York:20260426T120000
DTSTAMP:20260421T095353
CREATED:20221012T140205Z
LAST-MODIFIED:20260322T003932Z
UID:10000193-1777200300-1777204800@sgbchurch.com
SUMMARY:Sunday Morning Service
DESCRIPTION:Prayer\nSinging\nFellowship\nPreaching\nAll to the Glory of God
URL:https://sgbchurch.com/event/sunday-morning-service-2/2026-04-26/
LOCATION:South Gardiner Baptist Church
CATEGORIES:Regular Services
END:VEVENT
BEGIN:VEVENT
DTSTART;TZID=America/New_York:20260429T183000
DTEND;TZID=America/New_York:20260429T193000
DTSTAMP:20260421T095353
CREATED:20221012T141215Z
LAST-MODIFIED:20251106T163231Z
UID:10001247-1777487400-1777491000@sgbchurch.com
SUMMARY:Prayer Meeting
DESCRIPTION:
URL:https://sgbchurch.com/event/prayer-meeting-2/2026-04-29/
LOCATION:South Gardiner Baptist Church
CATEGORIES:Regular Services
END:VEVENT
BEGIN:VEVENT
DTSTART;TZID=America/New_York:20260503T104500
DTEND;TZID=America/New_York:20260503T120000
DTSTAMP:20260421T095353
CREATED:20221012T140205Z
LAST-MODIFIED:20260322T003932Z
UID:10000194-1777805100-1777809600@sgbchurch.com
SUMMARY:Sunday Morning Service
DESCRIPTION:Prayer\nSinging\nFellowship\nPreaching\nAll to the Glory of God
URL:https://sgbchurch.com/event/sunday-morning-service-2/2026-05-03/
LOCATION:South Gardiner Baptist Church
CATEGORIES:Regular Services
END:VEVENT
BEGIN:VEVENT
DTSTART;TZID=America/New_York:20260506T183000
DTEND;TZID=America/New_York:20260506T193000
DTSTAMP:20260421T095353
CREATED:20221012T141215Z
LAST-MODIFIED:20251106T163231Z
UID:10001248-1778092200-1778095800@sgbchurch.com
SUMMARY:Prayer Meeting
DESCRIPTION:
URL:https://sgbchurch.com/event/prayer-meeting-2/2026-05-06/
LOCATION:South Gardiner Baptist Church
CATEGORIES:Regular Services
END:VEVENT
BEGIN:VEVENT
DTSTART;TZID=America/New_York:20260510T104500
DTEND;TZID=America/New_York:20260510T120000
DTSTAMP:20260421T095353
CREATED:20221012T140205Z
LAST-MODIFIED:20260322T003932Z
UID:10000195-1778409900-1778414400@sgbchurch.com
SUMMARY:Sunday Morning Service
DESCRIPTION:Prayer\nSinging\nFellowship\nPreaching\nAll to the Glory of God
URL:https://sgbchurch.com/event/sunday-morning-service-2/2026-05-10/
LOCATION:South Gardiner Baptist Church
CATEGORIES:Regular Services
END:VEVENT
BEGIN:VEVENT
DTSTART;TZID=America/New_York:20260513T183000
DTEND;TZID=America/New_York:20260513T193000
DTSTAMP:20260421T095353
CREATED:20221012T141215Z
LAST-MODIFIED:20251106T163231Z
UID:10001249-1778697000-1778700600@sgbchurch.com
SUMMARY:Prayer Meeting
DESCRIPTION:
URL:https://sgbchurch.com/event/prayer-meeting-2/2026-05-13/
LOCATION:South Gardiner Baptist Church
CATEGORIES:Regular Services
END:VEVENT
BEGIN:VEVENT
DTSTART;TZID=America/New_York:20260517T104500
DTEND;TZID=America/New_York:20260517T120000
DTSTAMP:20260421T095353
CREATED:20221012T140205Z
LAST-MODIFIED:20260322T003932Z
UID:10000196-1779014700-1779019200@sgbchurch.com
SUMMARY:Sunday Morning Service
DESCRIPTION:Prayer\nSinging\nFellowship\nPreaching\nAll to the Glory of God
URL:https://sgbchurch.com/event/sunday-morning-service-2/2026-05-17/
LOCATION:South Gardiner Baptist Church
CATEGORIES:Regular Services
END:VEVENT
BEGIN:VEVENT
DTSTART;TZID=America/New_York:20260520T183000
DTEND;TZID=America/New_York:20260520T193000
DTSTAMP:20260421T095353
CREATED:20221012T141215Z
LAST-MODIFIED:20251106T163231Z
UID:10001250-1779301800-1779305400@sgbchurch.com
SUMMARY:Prayer Meeting
DESCRIPTION:
URL:https://sgbchurch.com/event/prayer-meeting-2/2026-05-20/
LOCATION:South Gardiner Baptist Church
CATEGORIES:Regular Services
END:VEVENT
BEGIN:VEVENT
DTSTART;TZID=America/New_York:20260524T104500
DTEND;TZID=America/New_York:20260524T120000
DTSTAMP:20260421T095353
CREATED:20221012T140205Z
LAST-MODIFIED:20260322T003932Z
UID:10000197-1779619500-1779624000@sgbchurch.com
SUMMARY:Sunday Morning Service
DESCRIPTION:Prayer\nSinging\nFellowship\nPreaching\nAll to the Glory of God
URL:https://sgbchurch.com/event/sunday-morning-service-2/2026-05-24/
LOCATION:South Gardiner Baptist Church
CATEGORIES:Regular Services
END:VEVENT
BEGIN:VEVENT
DTSTART;TZID=America/New_York:20260527T183000
DTEND;TZID=America/New_York:20260527T193000
DTSTAMP:20260421T095353
CREATED:20221012T141215Z
LAST-MODIFIED:20251106T163231Z
UID:10001251-1779906600-1779910200@sgbchurch.com
SUMMARY:Prayer Meeting
DESCRIPTION:
URL:https://sgbchurch.com/event/prayer-meeting-2/2026-05-27/
LOCATION:South Gardiner Baptist Church
CATEGORIES:Regular Services
END:VEVENT
BEGIN:VEVENT
DTSTART;TZID=America/New_York:20260531T104500
DTEND;TZID=America/New_York:20260531T120000
DTSTAMP:20260421T095353
CREATED:20221012T140205Z
LAST-MODIFIED:20260322T003932Z
UID:10000198-1780224300-1780228800@sgbchurch.com
SUMMARY:Sunday Morning Service
DESCRIPTION:Prayer\nSinging\nFellowship\nPreaching\nAll to the Glory of God
URL:https://sgbchurch.com/event/sunday-morning-service-2/2026-05-31/
LOCATION:South Gardiner Baptist Church
CATEGORIES:Regular Services
END:VEVENT
BEGIN:VEVENT
DTSTART;TZID=America/New_York:20260603T183000
DTEND;TZID=America/New_York:20260603T193000
DTSTAMP:20260421T095353
CREATED:20221012T141215Z
LAST-MODIFIED:20251106T163231Z
UID:10001252-1780511400-1780515000@sgbchurch.com
SUMMARY:Prayer Meeting
DESCRIPTION:
URL:https://sgbchurch.com/event/prayer-meeting-2/2026-06-03/
LOCATION:South Gardiner Baptist Church
CATEGORIES:Regular Services
END:VEVENT
BEGIN:VEVENT
DTSTART;TZID=America/New_York:20260607T104500
DTEND;TZID=America/New_York:20260607T120000
DTSTAMP:20260421T095353
CREATED:20221012T140205Z
LAST-MODIFIED:20260322T003932Z
UID:10000199-1780829100-1780833600@sgbchurch.com
SUMMARY:Sunday Morning Service
DESCRIPTION:Prayer\nSinging\nFellowship\nPreaching\nAll to the Glory of God
URL:https://sgbchurch.com/event/sunday-morning-service-2/2026-06-07/
LOCATION:South Gardiner Baptist Church
CATEGORIES:Regular Services
END:VEVENT
BEGIN:VEVENT
DTSTART;TZID=America/New_York:20260610T183000
DTEND;TZID=America/New_York:20260610T193000
DTSTAMP:20260421T095353
CREATED:20221012T141215Z
LAST-MODIFIED:20251106T163231Z
UID:10001253-1781116200-1781119800@sgbchurch.com
SUMMARY:Prayer Meeting
DESCRIPTION:
URL:https://sgbchurch.com/event/prayer-meeting-2/2026-06-10/
LOCATION:South Gardiner Baptist Church
CATEGORIES:Regular Services
END:VEVENT
BEGIN:VEVENT
DTSTART;TZID=America/New_York:20260614T104500
DTEND;TZID=America/New_York:20260614T120000
DTSTAMP:20260421T095353
CREATED:20221012T140205Z
LAST-MODIFIED:20260322T003932Z
UID:10000200-1781433900-1781438400@sgbchurch.com
SUMMARY:Sunday Morning Service
DESCRIPTION:Prayer\nSinging\nFellowship\nPreaching\nAll to the Glory of God
URL:https://sgbchurch.com/event/sunday-morning-service-2/2026-06-14/
LOCATION:South Gardiner Baptist Church
CATEGORIES:Regular Services
END:VEVENT
BEGIN:VEVENT
DTSTART;TZID=America/New_York:20260617T183000
DTEND;TZID=America/New_York:20260617T193000
DTSTAMP:20260421T095353
CREATED:20221012T141215Z
LAST-MODIFIED:20251106T163231Z
UID:10001254-1781721000-1781724600@sgbchurch.com
SUMMARY:Prayer Meeting
DESCRIPTION:
URL:https://sgbchurch.com/event/prayer-meeting-2/2026-06-17/
LOCATION:South Gardiner Baptist Church
CATEGORIES:Regular Services
END:VEVENT
BEGIN:VEVENT
DTSTART;TZID=America/New_York:20260621T104500
DTEND;TZID=America/New_York:20260621T120000
DTSTAMP:20260421T095353
CREATED:20221012T140205Z
LAST-MODIFIED:20260322T003932Z
UID:10000201-1782038700-1782043200@sgbchurch.com
SUMMARY:Sunday Morning Service
DESCRIPTION:Prayer\nSinging\nFellowship\nPreaching\nAll to the Glory of God
URL:https://sgbchurch.com/event/sunday-morning-service-2/2026-06-21/
LOCATION:South Gardiner Baptist Church
CATEGORIES:Regular Services
END:VEVENT
BEGIN:VEVENT
DTSTART;TZID=America/New_York:20260624T183000
DTEND;TZID=America/New_York:20260624T193000
DTSTAMP:20260421T095353
CREATED:20221012T141215Z
LAST-MODIFIED:20251106T163231Z
UID:10001255-1782325800-1782329400@sgbchurch.com
SUMMARY:Prayer Meeting
DESCRIPTION:
URL:https://sgbchurch.com/event/prayer-meeting-2/2026-06-24/
LOCATION:South Gardiner Baptist Church
CATEGORIES:Regular Services
END:VEVENT
BEGIN:VEVENT
DTSTART;TZID=America/New_York:20260628T104500
DTEND;TZID=America/New_York:20260628T120000
DTSTAMP:20260421T095353
CREATED:20221012T140205Z
LAST-MODIFIED:20260322T003932Z
UID:10000202-1782643500-1782648000@sgbchurch.com
SUMMARY:Sunday Morning Service
DESCRIPTION:Prayer\nSinging\nFellowship\nPreaching\nAll to the Glory of God
URL:https://sgbchurch.com/event/sunday-morning-service-2/2026-06-28/
LOCATION:South Gardiner Baptist Church
CATEGORIES:Regular Services
END:VEVENT
BEGIN:VEVENT
DTSTART;TZID=America/New_York:20260701T183000
DTEND;TZID=America/New_York:20260701T193000
DTSTAMP:20260421T095353
CREATED:20221012T141215Z
LAST-MODIFIED:20251106T163231Z
UID:10001256-1782930600-1782934200@sgbchurch.com
SUMMARY:Prayer Meeting
DESCRIPTION:
URL:https://sgbchurch.com/event/prayer-meeting-2/2026-07-01/
LOCATION:South Gardiner Baptist Church
CATEGORIES:Regular Services
END:VEVENT
BEGIN:VEVENT
DTSTART;TZID=America/New_York:20260705T104500
DTEND;TZID=America/New_York:20260705T120000
DTSTAMP:20260421T095353
CREATED:20221012T140205Z
LAST-MODIFIED:20260322T003932Z
UID:10000203-1783248300-1783252800@sgbchurch.com
SUMMARY:Sunday Morning Service
DESCRIPTION:Prayer\nSinging\nFellowship\nPreaching\nAll to the Glory of God
URL:https://sgbchurch.com/event/sunday-morning-service-2/2026-07-05/
LOCATION:South Gardiner Baptist Church
CATEGORIES:Regular Services
END:VEVENT
BEGIN:VEVENT
DTSTART;TZID=America/New_York:20260708T183000
DTEND;TZID=America/New_York:20260708T193000
DTSTAMP:20260421T095353
CREATED:20221012T141215Z
LAST-MODIFIED:20251106T163231Z
UID:10001257-1783535400-1783539000@sgbchurch.com
SUMMARY:Prayer Meeting
DESCRIPTION:
URL:https://sgbchurch.com/event/prayer-meeting-2/2026-07-08/
LOCATION:South Gardiner Baptist Church
CATEGORIES:Regular Services
END:VEVENT
BEGIN:VEVENT
DTSTART;TZID=America/New_York:20260712T104500
DTEND;TZID=America/New_York:20260712T120000
DTSTAMP:20260421T095353
CREATED:20221012T140205Z
LAST-MODIFIED:20260322T003932Z
UID:10000204-1783853100-1783857600@sgbchurch.com
SUMMARY:Sunday Morning Service
DESCRIPTION:Prayer\nSinging\nFellowship\nPreaching\nAll to the Glory of God
URL:https://sgbchurch.com/event/sunday-morning-service-2/2026-07-12/
LOCATION:South Gardiner Baptist Church
CATEGORIES:Regular Services
END:VEVENT
BEGIN:VEVENT
DTSTART;TZID=America/New_York:20260715T183000
DTEND;TZID=America/New_York:20260715T193000
DTSTAMP:20260421T095353
CREATED:20221012T141215Z
LAST-MODIFIED:20251106T163231Z
UID:10001258-1784140200-1784143800@sgbchurch.com
SUMMARY:Prayer Meeting
DESCRIPTION:
URL:https://sgbchurch.com/event/prayer-meeting-2/2026-07-15/
LOCATION:South Gardiner Baptist Church
CATEGORIES:Regular Services
END:VEVENT
BEGIN:VEVENT
DTSTART;TZID=America/New_York:20260719T104500
DTEND;TZID=America/New_York:20260719T120000
DTSTAMP:20260421T095353
CREATED:20221012T140205Z
LAST-MODIFIED:20260322T003932Z
UID:10000205-1784457900-1784462400@sgbchurch.com
SUMMARY:Sunday Morning Service
DESCRIPTION:Prayer\nSinging\nFellowship\nPreaching\nAll to the Glory of God
URL:https://sgbchurch.com/event/sunday-morning-service-2/2026-07-19/
LOCATION:South Gardiner Baptist Church
CATEGORIES:Regular Services
END:VEVENT
BEGIN:VEVENT
DTSTART;TZID=America/New_York:20260722T183000
DTEND;TZID=America/New_York:20260722T193000
DTSTAMP:20260421T095353
CREATED:20221012T141215Z
LAST-MODIFIED:20251106T163231Z
UID:10001259-1784745000-1784748600@sgbchurch.com
SUMMARY:Prayer Meeting
DESCRIPTION:
URL:https://sgbchurch.com/event/prayer-meeting-2/2026-07-22/
LOCATION:South Gardiner Baptist Church
CATEGORIES:Regular Services
END:VEVENT
BEGIN:VEVENT
DTSTART;TZID=America/New_York:20260726T104500
DTEND;TZID=America/New_York:20260726T120000
DTSTAMP:20260421T095353
CREATED:20221012T140205Z
LAST-MODIFIED:20260322T003932Z
UID:10000206-1785062700-1785067200@sgbchurch.com
SUMMARY:Sunday Morning Service
DESCRIPTION:Prayer\nSinging\nFellowship\nPreaching\nAll to the Glory of God
URL:https://sgbchurch.com/event/sunday-morning-service-2/2026-07-26/
LOCATION:South Gardiner Baptist Church
CATEGORIES:Regular Services
END:VEVENT
BEGIN:VEVENT
DTSTART;TZID=America/New_York:20260729T183000
DTEND;TZID=America/New_York:20260729T193000
DTSTAMP:20260421T095353
CREATED:20221012T141215Z
LAST-MODIFIED:20251106T163231Z
UID:10001260-1785349800-1785353400@sgbchurch.com
SUMMARY:Prayer Meeting
DESCRIPTION:
URL:https://sgbchurch.com/event/prayer-meeting-2/2026-07-29/
LOCATION:South Gardiner Baptist Church
CATEGORIES:Regular Services
END:VEVENT
BEGIN:VEVENT
DTSTART;TZID=America/New_York:20260802T104500
DTEND;TZID=America/New_York:20260802T120000
DTSTAMP:20260421T095353
CREATED:20221012T140205Z
LAST-MODIFIED:20260322T003932Z
UID:10000207-1785667500-1785672000@sgbchurch.com
SUMMARY:Sunday Morning Service
DESCRIPTION:Prayer\nSinging\nFellowship\nPreaching\nAll to the Glory of God
URL:https://sgbchurch.com/event/sunday-morning-service-2/2026-08-02/
LOCATION:South Gardiner Baptist Church
CATEGORIES:Regular Services
END:VEVENT
END:VCALENDAR