BEGIN:VCALENDAR
VERSION:2.0
PRODID:-//South Gardiner Baptist Church - ECPv6.15.20//NONSGML v1.0//EN
CALSCALE:GREGORIAN
METHOD:PUBLISH
X-ORIGINAL-URL:https://sgbchurch.com
X-WR-CALDESC:Events for South Gardiner Baptist Church
REFRESH-INTERVAL;VALUE=DURATION:PT1H
X-Robots-Tag:noindex
X-PUBLISHED-TTL:PT1H
BEGIN:VTIMEZONE
TZID:America/New_York
BEGIN:DAYLIGHT
TZOFFSETFROM:-0500
TZOFFSETTO:-0400
TZNAME:EDT
DTSTART:20220313T070000
END:DAYLIGHT
BEGIN:STANDARD
TZOFFSETFROM:-0400
TZOFFSETTO:-0500
TZNAME:EST
DTSTART:20221106T060000
END:STANDARD
BEGIN:DAYLIGHT
TZOFFSETFROM:-0500
TZOFFSETTO:-0400
TZNAME:EDT
DTSTART:20230312T070000
END:DAYLIGHT
BEGIN:STANDARD
TZOFFSETFROM:-0400
TZOFFSETTO:-0500
TZNAME:EST
DTSTART:20231105T060000
END:STANDARD
BEGIN:DAYLIGHT
TZOFFSETFROM:-0500
TZOFFSETTO:-0400
TZNAME:EDT
DTSTART:20240310T070000
END:DAYLIGHT
BEGIN:STANDARD
TZOFFSETFROM:-0400
TZOFFSETTO:-0500
TZNAME:EST
DTSTART:20241103T060000
END:STANDARD
END:VTIMEZONE
BEGIN:VEVENT
DTSTART;TZID=America/New_York:20230312T180000
DTEND;TZID=America/New_York:20230312T193000
DTSTAMP:20260422T154035
CREATED:20221012T140841Z
LAST-MODIFIED:20260401T164139Z
UID:10000553-1678644000-1678649400@sgbchurch.com
SUMMARY:Sunday Evening Service
DESCRIPTION:
URL:https://sgbchurch.com/event/sunday-evening-service-2/2023-03-12/
CATEGORIES:Regular Services
END:VEVENT
BEGIN:VEVENT
DTSTART;TZID=America/New_York:20230312T104500
DTEND;TZID=America/New_York:20230312T120000
DTSTAMP:20260422T154035
CREATED:20221012T140205Z
LAST-MODIFIED:20260322T003932Z
UID:10000030-1678617900-1678622400@sgbchurch.com
SUMMARY:Sunday Morning Service
DESCRIPTION:Prayer\nSinging\nFellowship\nPreaching\nAll to the Glory of God
URL:https://sgbchurch.com/event/sunday-morning-service-2/2023-03-12/
LOCATION:South Gardiner Baptist Church
CATEGORIES:Regular Services
END:VEVENT
BEGIN:VEVENT
DTSTART;TZID=America/New_York:20230312T094500
DTEND;TZID=America/New_York:20230312T103000
DTSTAMP:20260422T154035
CREATED:20221012T135851Z
LAST-MODIFIED:20260401T163820Z
UID:10000815-1678614300-1678617000@sgbchurch.com
SUMMARY:Sunday School
DESCRIPTION:
URL:https://sgbchurch.com/event/sunday-school-2-2/2023-03-12/
CATEGORIES:Regular Services
END:VEVENT
BEGIN:VEVENT
DTSTART;TZID=America/New_York:20230308T183000
DTEND;TZID=America/New_York:20230308T193000
DTSTAMP:20260422T154035
CREATED:20221012T141215Z
LAST-MODIFIED:20251106T163231Z
UID:10001083-1678300200-1678303800@sgbchurch.com
SUMMARY:Prayer Meeting
DESCRIPTION:
URL:https://sgbchurch.com/event/prayer-meeting-2/2023-03-08/
LOCATION:South Gardiner Baptist Church
CATEGORIES:Regular Services
END:VEVENT
BEGIN:VEVENT
DTSTART;TZID=America/New_York:20230305T180000
DTEND;TZID=America/New_York:20230305T193000
DTSTAMP:20260422T154035
CREATED:20221012T140841Z
LAST-MODIFIED:20260401T164139Z
UID:10000552-1678039200-1678044600@sgbchurch.com
SUMMARY:Sunday Evening Service
DESCRIPTION:
URL:https://sgbchurch.com/event/sunday-evening-service-2/2023-03-05/
CATEGORIES:Regular Services
END:VEVENT
BEGIN:VEVENT
DTSTART;TZID=America/New_York:20230305T104500
DTEND;TZID=America/New_York:20230305T120000
DTSTAMP:20260422T154035
CREATED:20221012T140205Z
LAST-MODIFIED:20260322T003932Z
UID:10000029-1678013100-1678017600@sgbchurch.com
SUMMARY:Sunday Morning Service
DESCRIPTION:Prayer\nSinging\nFellowship\nPreaching\nAll to the Glory of God
URL:https://sgbchurch.com/event/sunday-morning-service-2/2023-03-05/
LOCATION:South Gardiner Baptist Church
CATEGORIES:Regular Services
END:VEVENT
BEGIN:VEVENT
DTSTART;TZID=America/New_York:20230305T094500
DTEND;TZID=America/New_York:20230305T103000
DTSTAMP:20260422T154035
CREATED:20221012T135851Z
LAST-MODIFIED:20260401T163820Z
UID:10000814-1678009500-1678012200@sgbchurch.com
SUMMARY:Sunday School
DESCRIPTION:
URL:https://sgbchurch.com/event/sunday-school-2-2/2023-03-05/
CATEGORIES:Regular Services
END:VEVENT
BEGIN:VEVENT
DTSTART;TZID=America/New_York:20230301T183000
DTEND;TZID=America/New_York:20230301T193000
DTSTAMP:20260422T154035
CREATED:20221012T141215Z
LAST-MODIFIED:20251106T163231Z
UID:10001082-1677695400-1677699000@sgbchurch.com
SUMMARY:Prayer Meeting
DESCRIPTION:
URL:https://sgbchurch.com/event/prayer-meeting-2/2023-03-01/
LOCATION:South Gardiner Baptist Church
CATEGORIES:Regular Services
END:VEVENT
BEGIN:VEVENT
DTSTART;TZID=America/New_York:20230226T180000
DTEND;TZID=America/New_York:20230226T193000
DTSTAMP:20260422T154035
CREATED:20221012T140841Z
LAST-MODIFIED:20260401T164139Z
UID:10000551-1677434400-1677439800@sgbchurch.com
SUMMARY:Sunday Evening Service
DESCRIPTION:
URL:https://sgbchurch.com/event/sunday-evening-service-2/2023-02-26/
CATEGORIES:Regular Services
END:VEVENT
BEGIN:VEVENT
DTSTART;TZID=America/New_York:20230226T104500
DTEND;TZID=America/New_York:20230226T120000
DTSTAMP:20260422T154035
CREATED:20221012T140205Z
LAST-MODIFIED:20260322T003932Z
UID:10000028-1677408300-1677412800@sgbchurch.com
SUMMARY:Sunday Morning Service
DESCRIPTION:Prayer\nSinging\nFellowship\nPreaching\nAll to the Glory of God
URL:https://sgbchurch.com/event/sunday-morning-service-2/2023-02-26/
LOCATION:South Gardiner Baptist Church
CATEGORIES:Regular Services
END:VEVENT
BEGIN:VEVENT
DTSTART;TZID=America/New_York:20230226T094500
DTEND;TZID=America/New_York:20230226T103000
DTSTAMP:20260422T154035
CREATED:20221012T135851Z
LAST-MODIFIED:20260401T163820Z
UID:10000813-1677404700-1677407400@sgbchurch.com
SUMMARY:Sunday School
DESCRIPTION:
URL:https://sgbchurch.com/event/sunday-school-2-2/2023-02-26/
CATEGORIES:Regular Services
END:VEVENT
BEGIN:VEVENT
DTSTART;TZID=America/New_York:20230222T183000
DTEND;TZID=America/New_York:20230222T193000
DTSTAMP:20260422T154035
CREATED:20221012T141215Z
LAST-MODIFIED:20251106T163231Z
UID:10001081-1677090600-1677094200@sgbchurch.com
SUMMARY:Prayer Meeting
DESCRIPTION:
URL:https://sgbchurch.com/event/prayer-meeting-2/2023-02-22/
LOCATION:South Gardiner Baptist Church
CATEGORIES:Regular Services
END:VEVENT
BEGIN:VEVENT
DTSTART;TZID=America/New_York:20230219T180000
DTEND;TZID=America/New_York:20230219T193000
DTSTAMP:20260422T154035
CREATED:20221012T140841Z
LAST-MODIFIED:20260401T164139Z
UID:10000550-1676829600-1676835000@sgbchurch.com
SUMMARY:Sunday Evening Service
DESCRIPTION:
URL:https://sgbchurch.com/event/sunday-evening-service-2/2023-02-19/
CATEGORIES:Regular Services
END:VEVENT
BEGIN:VEVENT
DTSTART;TZID=America/New_York:20230219T104500
DTEND;TZID=America/New_York:20230219T120000
DTSTAMP:20260422T154035
CREATED:20221012T140205Z
LAST-MODIFIED:20260322T003932Z
UID:10000027-1676803500-1676808000@sgbchurch.com
SUMMARY:Sunday Morning Service
DESCRIPTION:Prayer\nSinging\nFellowship\nPreaching\nAll to the Glory of God
URL:https://sgbchurch.com/event/sunday-morning-service-2/2023-02-19/
LOCATION:South Gardiner Baptist Church
CATEGORIES:Regular Services
END:VEVENT
BEGIN:VEVENT
DTSTART;TZID=America/New_York:20230219T094500
DTEND;TZID=America/New_York:20230219T103000
DTSTAMP:20260422T154035
CREATED:20221012T135851Z
LAST-MODIFIED:20260401T163820Z
UID:10000812-1676799900-1676802600@sgbchurch.com
SUMMARY:Sunday School
DESCRIPTION:
URL:https://sgbchurch.com/event/sunday-school-2-2/2023-02-19/
CATEGORIES:Regular Services
END:VEVENT
BEGIN:VEVENT
DTSTART;TZID=America/New_York:20230215T183000
DTEND;TZID=America/New_York:20230215T193000
DTSTAMP:20260422T154035
CREATED:20221012T141215Z
LAST-MODIFIED:20251106T163231Z
UID:10001080-1676485800-1676489400@sgbchurch.com
SUMMARY:Prayer Meeting
DESCRIPTION:
URL:https://sgbchurch.com/event/prayer-meeting-2/2023-02-15/
LOCATION:South Gardiner Baptist Church
CATEGORIES:Regular Services
END:VEVENT
BEGIN:VEVENT
DTSTART;TZID=America/New_York:20230212T180000
DTEND;TZID=America/New_York:20230212T193000
DTSTAMP:20260422T154035
CREATED:20221012T140841Z
LAST-MODIFIED:20260401T164139Z
UID:10000549-1676224800-1676230200@sgbchurch.com
SUMMARY:Sunday Evening Service
DESCRIPTION:
URL:https://sgbchurch.com/event/sunday-evening-service-2/2023-02-12/
CATEGORIES:Regular Services
END:VEVENT
BEGIN:VEVENT
DTSTART;TZID=America/New_York:20230212T104500
DTEND;TZID=America/New_York:20230212T120000
DTSTAMP:20260422T154035
CREATED:20221012T140205Z
LAST-MODIFIED:20260322T003932Z
UID:10000026-1676198700-1676203200@sgbchurch.com
SUMMARY:Sunday Morning Service
DESCRIPTION:Prayer\nSinging\nFellowship\nPreaching\nAll to the Glory of God
URL:https://sgbchurch.com/event/sunday-morning-service-2/2023-02-12/
LOCATION:South Gardiner Baptist Church
CATEGORIES:Regular Services
END:VEVENT
BEGIN:VEVENT
DTSTART;TZID=America/New_York:20230212T094500
DTEND;TZID=America/New_York:20230212T103000
DTSTAMP:20260422T154035
CREATED:20221012T135851Z
LAST-MODIFIED:20260401T163820Z
UID:10000811-1676195100-1676197800@sgbchurch.com
SUMMARY:Sunday School
DESCRIPTION:
URL:https://sgbchurch.com/event/sunday-school-2-2/2023-02-12/
CATEGORIES:Regular Services
END:VEVENT
BEGIN:VEVENT
DTSTART;TZID=America/New_York:20230208T183000
DTEND;TZID=America/New_York:20230208T193000
DTSTAMP:20260422T154035
CREATED:20221012T141215Z
LAST-MODIFIED:20251106T163231Z
UID:10001079-1675881000-1675884600@sgbchurch.com
SUMMARY:Prayer Meeting
DESCRIPTION:
URL:https://sgbchurch.com/event/prayer-meeting-2/2023-02-08/
LOCATION:South Gardiner Baptist Church
CATEGORIES:Regular Services
END:VEVENT
BEGIN:VEVENT
DTSTART;TZID=America/New_York:20230205T180000
DTEND;TZID=America/New_York:20230205T193000
DTSTAMP:20260422T154035
CREATED:20221012T140841Z
LAST-MODIFIED:20260401T164139Z
UID:10000548-1675620000-1675625400@sgbchurch.com
SUMMARY:Sunday Evening Service
DESCRIPTION:
URL:https://sgbchurch.com/event/sunday-evening-service-2/2023-02-05/
CATEGORIES:Regular Services
END:VEVENT
BEGIN:VEVENT
DTSTART;TZID=America/New_York:20230205T104500
DTEND;TZID=America/New_York:20230205T120000
DTSTAMP:20260422T154035
CREATED:20221012T140205Z
LAST-MODIFIED:20260322T003932Z
UID:10000025-1675593900-1675598400@sgbchurch.com
SUMMARY:Sunday Morning Service
DESCRIPTION:Prayer\nSinging\nFellowship\nPreaching\nAll to the Glory of God
URL:https://sgbchurch.com/event/sunday-morning-service-2/2023-02-05/
LOCATION:South Gardiner Baptist Church
CATEGORIES:Regular Services
END:VEVENT
BEGIN:VEVENT
DTSTART;TZID=America/New_York:20230205T094500
DTEND;TZID=America/New_York:20230205T103000
DTSTAMP:20260422T154035
CREATED:20221012T135851Z
LAST-MODIFIED:20260401T163820Z
UID:10000810-1675590300-1675593000@sgbchurch.com
SUMMARY:Sunday School
DESCRIPTION:
URL:https://sgbchurch.com/event/sunday-school-2-2/2023-02-05/
CATEGORIES:Regular Services
END:VEVENT
BEGIN:VEVENT
DTSTART;TZID=America/New_York:20230201T183000
DTEND;TZID=America/New_York:20230201T193000
DTSTAMP:20260422T154035
CREATED:20221012T141215Z
LAST-MODIFIED:20251106T163231Z
UID:10001078-1675276200-1675279800@sgbchurch.com
SUMMARY:Prayer Meeting
DESCRIPTION:
URL:https://sgbchurch.com/event/prayer-meeting-2/2023-02-01/
LOCATION:South Gardiner Baptist Church
CATEGORIES:Regular Services
END:VEVENT
BEGIN:VEVENT
DTSTART;TZID=America/New_York:20230129T104500
DTEND;TZID=America/New_York:20230129T120000
DTSTAMP:20260422T154035
CREATED:20221012T140205Z
LAST-MODIFIED:20260322T003932Z
UID:10000024-1674989100-1674993600@sgbchurch.com
SUMMARY:Sunday Morning Service
DESCRIPTION:Prayer\nSinging\nFellowship\nPreaching\nAll to the Glory of God
URL:https://sgbchurch.com/event/sunday-morning-service-2/2023-01-29/
LOCATION:South Gardiner Baptist Church
CATEGORIES:Regular Services
END:VEVENT
BEGIN:VEVENT
DTSTART;TZID=America/New_York:20230129T094500
DTEND;TZID=America/New_York:20230129T103000
DTSTAMP:20260422T154035
CREATED:20221012T135851Z
LAST-MODIFIED:20260401T163820Z
UID:10000809-1674985500-1674988200@sgbchurch.com
SUMMARY:Sunday School
DESCRIPTION:
URL:https://sgbchurch.com/event/sunday-school-2-2/2023-01-29/
CATEGORIES:Regular Services
END:VEVENT
BEGIN:VEVENT
DTSTART;TZID=America/New_York:20230125T183000
DTEND;TZID=America/New_York:20230125T193000
DTSTAMP:20260422T154035
CREATED:20221012T141215Z
LAST-MODIFIED:20251106T163231Z
UID:10001077-1674671400-1674675000@sgbchurch.com
SUMMARY:Prayer Meeting
DESCRIPTION:
URL:https://sgbchurch.com/event/prayer-meeting-2/2023-01-25/
LOCATION:South Gardiner Baptist Church
CATEGORIES:Regular Services
END:VEVENT
BEGIN:VEVENT
DTSTART;TZID=America/New_York:20230122T180000
DTEND;TZID=America/New_York:20230122T193000
DTSTAMP:20260422T154035
CREATED:20221012T140841Z
LAST-MODIFIED:20260401T164139Z
UID:10000546-1674410400-1674415800@sgbchurch.com
SUMMARY:Sunday Evening Service
DESCRIPTION:
URL:https://sgbchurch.com/event/sunday-evening-service-2/2023-01-22/
CATEGORIES:Regular Services
END:VEVENT
BEGIN:VEVENT
DTSTART;TZID=America/New_York:20230122T104500
DTEND;TZID=America/New_York:20230122T120000
DTSTAMP:20260422T154035
CREATED:20221012T140205Z
LAST-MODIFIED:20260322T003932Z
UID:10000023-1674384300-1674388800@sgbchurch.com
SUMMARY:Sunday Morning Service
DESCRIPTION:Prayer\nSinging\nFellowship\nPreaching\nAll to the Glory of God
URL:https://sgbchurch.com/event/sunday-morning-service-2/2023-01-22/
LOCATION:South Gardiner Baptist Church
CATEGORIES:Regular Services
END:VEVENT
BEGIN:VEVENT
DTSTART;TZID=America/New_York:20230122T094500
DTEND;TZID=America/New_York:20230122T103000
DTSTAMP:20260422T154035
CREATED:20221012T135851Z
LAST-MODIFIED:20260401T163820Z
UID:10000808-1674380700-1674383400@sgbchurch.com
SUMMARY:Sunday School
DESCRIPTION:
URL:https://sgbchurch.com/event/sunday-school-2-2/2023-01-22/
CATEGORIES:Regular Services
END:VEVENT
END:VCALENDAR