BEGIN:VCALENDAR
VERSION:2.0
PRODID:-//South Gardiner Baptist Church - ECPv6.15.20//NONSGML v1.0//EN
CALSCALE:GREGORIAN
METHOD:PUBLISH
X-WR-CALNAME:South Gardiner Baptist Church
X-ORIGINAL-URL:https://sgbchurch.com
X-WR-CALDESC:Events for South Gardiner Baptist Church
REFRESH-INTERVAL;VALUE=DURATION:PT1H
X-Robots-Tag:noindex
X-PUBLISHED-TTL:PT1H
BEGIN:VTIMEZONE
TZID:America/New_York
BEGIN:DAYLIGHT
TZOFFSETFROM:-0500
TZOFFSETTO:-0400
TZNAME:EDT
DTSTART:20230312T070000
END:DAYLIGHT
BEGIN:STANDARD
TZOFFSETFROM:-0400
TZOFFSETTO:-0500
TZNAME:EST
DTSTART:20231105T060000
END:STANDARD
BEGIN:DAYLIGHT
TZOFFSETFROM:-0500
TZOFFSETTO:-0400
TZNAME:EDT
DTSTART:20240310T070000
END:DAYLIGHT
BEGIN:STANDARD
TZOFFSETFROM:-0400
TZOFFSETTO:-0500
TZNAME:EST
DTSTART:20241103T060000
END:STANDARD
BEGIN:DAYLIGHT
TZOFFSETFROM:-0500
TZOFFSETTO:-0400
TZNAME:EDT
DTSTART:20250309T070000
END:DAYLIGHT
BEGIN:STANDARD
TZOFFSETFROM:-0400
TZOFFSETTO:-0500
TZNAME:EST
DTSTART:20251102T060000
END:STANDARD
END:VTIMEZONE
BEGIN:VEVENT
DTSTART;TZID=America/New_York:20240913T080000
DTEND;TZID=America/New_York:20240914T170000
DTSTAMP:20260420T151157
CREATED:20240807T114938Z
LAST-MODIFIED:20240807T120122Z
UID:10001374-1726214400-1726333200@sgbchurch.com
SUMMARY:Ladies' Retreat
DESCRIPTION:Ladies\, please sign the list in the foyer by Sunday August 10th if you plan to go to the Ladies’ retreat at the Wilds of New England. \n“Attractive New England charm—one crisp fall evening and day—warm fellowship—hot fall-themed drinks—sweet singing—relaxing games—delicious food—practical Bible teaching. This describes fall at its New England best for our Ladies’ & Girls’ Retreat! Come enjoy it with us at The Wilds of New England! This retreat is for those 6 years of age and older.” \nSpeakers at the Ladies’ Retreat will be Christa Threlfall and Cassie McManus
URL:https://sgbchurch.com/event/ladies-retreat-2/
CATEGORIES:Retreat
END:VEVENT
END:VCALENDAR