BEGIN:VCALENDAR
VERSION:2.0
PRODID:-//South Gardiner Baptist Church - ECPv6.15.20//NONSGML v1.0//EN
CALSCALE:GREGORIAN
METHOD:PUBLISH
X-ORIGINAL-URL:https://sgbchurch.com
X-WR-CALDESC:Events for South Gardiner Baptist Church
REFRESH-INTERVAL;VALUE=DURATION:PT1H
X-Robots-Tag:noindex
X-PUBLISHED-TTL:PT1H
BEGIN:VTIMEZONE
TZID:America/New_York
BEGIN:DAYLIGHT
TZOFFSETFROM:-0500
TZOFFSETTO:-0400
TZNAME:EDT
DTSTART:20220313T070000
END:DAYLIGHT
BEGIN:STANDARD
TZOFFSETFROM:-0400
TZOFFSETTO:-0500
TZNAME:EST
DTSTART:20221106T060000
END:STANDARD
BEGIN:DAYLIGHT
TZOFFSETFROM:-0500
TZOFFSETTO:-0400
TZNAME:EDT
DTSTART:20230312T070000
END:DAYLIGHT
BEGIN:STANDARD
TZOFFSETFROM:-0400
TZOFFSETTO:-0500
TZNAME:EST
DTSTART:20231105T060000
END:STANDARD
BEGIN:DAYLIGHT
TZOFFSETFROM:-0500
TZOFFSETTO:-0400
TZNAME:EDT
DTSTART:20240310T070000
END:DAYLIGHT
BEGIN:STANDARD
TZOFFSETFROM:-0400
TZOFFSETTO:-0500
TZNAME:EST
DTSTART:20241103T060000
END:STANDARD
END:VTIMEZONE
BEGIN:VEVENT
DTSTART;TZID=America/New_York:20231224T094500
DTEND;TZID=America/New_York:20231224T103000
DTSTAMP:20260422T112904
CREATED:20221012T135851Z
LAST-MODIFIED:20260401T163820Z
UID:10000856-1703411100-1703413800@sgbchurch.com
SUMMARY:Sunday School
DESCRIPTION:
URL:https://sgbchurch.com/event/sunday-school-2-2/2023-12-24/
CATEGORIES:Regular Services
END:VEVENT
BEGIN:VEVENT
DTSTART;TZID=America/New_York:20231224T104500
DTEND;TZID=America/New_York:20231224T120000
DTSTAMP:20260422T112904
CREATED:20221012T140205Z
LAST-MODIFIED:20260322T003932Z
UID:10000071-1703414700-1703419200@sgbchurch.com
SUMMARY:Sunday Morning Service
DESCRIPTION:Prayer\nSinging\nFellowship\nPreaching\nAll to the Glory of God
URL:https://sgbchurch.com/event/sunday-morning-service-2/2023-12-24/
LOCATION:South Gardiner Baptist Church
CATEGORIES:Regular Services
END:VEVENT
BEGIN:VEVENT
DTSTART;TZID=America/New_York:20231224T180000
DTEND;TZID=America/New_York:20231224T190000
DTSTAMP:20260422T112904
CREATED:20231214T131925Z
LAST-MODIFIED:20251209T120331Z
UID:10001358-1703440800-1703444400@sgbchurch.com
SUMMARY:Christmas Eve Candlelight Service
DESCRIPTION:Join us as we meditate on the birth of Christ and the prophecies that predicted His birth\, and celebrate the light that He has brought and the salvation He offers. We will worship together singing Christmas Carols\, praying\, and looking into God’s Word.
URL:https://sgbchurch.com/event/christmas-eve-candlelight-service/2023-12-24/
LOCATION:South Gardiner Baptist Church
CATEGORIES:Special Services
ATTACH;FMTTYPE=image/jpeg:https://sgbchurch.com/wp-content/uploads/2025/12/pexels-erenlerhakan-289756-scaled-e1765281180414.jpg
END:VEVENT
END:VCALENDAR